BEGIN:VCALENDAR
VERSION:2.0
PRODID:-//Sprongcollege - ECPv6.15.13//NONSGML v1.0//EN
CALSCALE:GREGORIAN
METHOD:PUBLISH
X-WR-CALNAME:Sprongcollege
X-ORIGINAL-URL:https://sprong-college.nl
X-WR-CALDESC:Evenementen voor Sprongcollege
REFRESH-INTERVAL;VALUE=DURATION:PT1H
X-Robots-Tag:noindex
X-PUBLISHED-TTL:PT1H
BEGIN:VTIMEZONE
TZID:Europe/Amsterdam
BEGIN:DAYLIGHT
TZOFFSETFROM:+0100
TZOFFSETTO:+0200
TZNAME:CEST
DTSTART:20180325T010000
END:DAYLIGHT
BEGIN:STANDARD
TZOFFSETFROM:+0200
TZOFFSETTO:+0100
TZNAME:CET
DTSTART:20181028T010000
END:STANDARD
BEGIN:DAYLIGHT
TZOFFSETFROM:+0100
TZOFFSETTO:+0200
TZNAME:CEST
DTSTART:20190331T010000
END:DAYLIGHT
BEGIN:STANDARD
TZOFFSETFROM:+0200
TZOFFSETTO:+0100
TZNAME:CET
DTSTART:20191027T010000
END:STANDARD
BEGIN:DAYLIGHT
TZOFFSETFROM:+0100
TZOFFSETTO:+0200
TZNAME:CEST
DTSTART:20200329T010000
END:DAYLIGHT
BEGIN:STANDARD
TZOFFSETFROM:+0200
TZOFFSETTO:+0100
TZNAME:CET
DTSTART:20201025T010000
END:STANDARD
END:VTIMEZONE
BEGIN:VEVENT
DTSTART;TZID=Europe/Amsterdam:20191008T193000
DTEND;TZID=Europe/Amsterdam:20191008T213000
DTSTAMP:20260426T022542
CREATED:20190625T074308Z
LAST-MODIFIED:20190917T065057Z
UID:9961-1570563000-1570570200@sprong-college.nl
SUMMARY:Beroepskeuzeavond leerjaar 3
DESCRIPTION:
URL:https://sprong-college.nl/activiteit/beroepskeuzeavond-leerjaar-2/
END:VEVENT
BEGIN:VEVENT
DTSTART;VALUE=DATE:20191014
DTEND;VALUE=DATE:20191019
DTSTAMP:20260426T022542
CREATED:20190704T095225Z
LAST-MODIFIED:20190704T095225Z
UID:10124-1571011200-1571443199@sprong-college.nl
SUMMARY:Herfstvakantie
DESCRIPTION:
URL:https://sprong-college.nl/activiteit/herfstvakantie/
END:VEVENT
BEGIN:VEVENT
DTSTART;VALUE=DATE:20191022
DTEND;VALUE=DATE:20191023
DTSTAMP:20260426T022542
CREATED:20190826T090107Z
LAST-MODIFIED:20190826T090108Z
UID:10233-1571702400-1571788799@sprong-college.nl
SUMMARY:Cultuurdag
DESCRIPTION:
URL:https://sprong-college.nl/activiteit/cultuurdag/
END:VEVENT
BEGIN:VEVENT
DTSTART;TZID=Europe/Amsterdam:20191029T193000
DTEND;TZID=Europe/Amsterdam:20191029T213000
DTSTAMP:20260426T022542
CREATED:20190910T092857Z
LAST-MODIFIED:20190910T092858Z
UID:10311-1572377400-1572384600@sprong-college.nl
SUMMARY:Thema-avond gezamenlijke ouderraden
DESCRIPTION:Locatie: Cultuurcentrum\, Martinetplein 1\, Deurne \nInformatieavond georganiseerd in samenwerking met ‘Zorg in Deurne’
URL:https://sprong-college.nl/activiteit/thema-avond-gezamenlijke-ouderraden/
END:VEVENT
END:VCALENDAR