BEGIN:VCALENDAR
VERSION:2.0
PRODID:-//Sprongcollege - ECPv6.15.13//NONSGML v1.0//EN
CALSCALE:GREGORIAN
METHOD:PUBLISH
X-WR-CALNAME:Sprongcollege
X-ORIGINAL-URL:https://sprong-college.nl
X-WR-CALDESC:Evenementen voor Sprongcollege
REFRESH-INTERVAL;VALUE=DURATION:PT1H
X-Robots-Tag:noindex
X-PUBLISHED-TTL:PT1H
BEGIN:VTIMEZONE
TZID:Europe/Amsterdam
BEGIN:DAYLIGHT
TZOFFSETFROM:+0100
TZOFFSETTO:+0200
TZNAME:CEST
DTSTART:20190331T010000
END:DAYLIGHT
BEGIN:STANDARD
TZOFFSETFROM:+0200
TZOFFSETTO:+0100
TZNAME:CET
DTSTART:20191027T010000
END:STANDARD
BEGIN:DAYLIGHT
TZOFFSETFROM:+0100
TZOFFSETTO:+0200
TZNAME:CEST
DTSTART:20200329T010000
END:DAYLIGHT
BEGIN:STANDARD
TZOFFSETFROM:+0200
TZOFFSETTO:+0100
TZNAME:CET
DTSTART:20201025T010000
END:STANDARD
BEGIN:DAYLIGHT
TZOFFSETFROM:+0100
TZOFFSETTO:+0200
TZNAME:CEST
DTSTART:20210328T010000
END:DAYLIGHT
BEGIN:STANDARD
TZOFFSETFROM:+0200
TZOFFSETTO:+0100
TZNAME:CET
DTSTART:20211031T010000
END:STANDARD
END:VTIMEZONE
BEGIN:VEVENT
DTSTART;TZID=Europe/Amsterdam:20200202T120000
DTEND;TZID=Europe/Amsterdam:20200202T140000
DTSTAMP:20260425T201305
CREATED:20190705T125504Z
LAST-MODIFIED:20190705T125504Z
UID:10176-1580644800-1580652000@sprong-college.nl
SUMMARY:Kijkdag Sprongcollege
DESCRIPTION:
URL:https://sprong-college.nl/activiteit/kijkdag-sprongcollege/
END:VEVENT
BEGIN:VEVENT
DTSTART;VALUE=DATE:20200203
DTEND;VALUE=DATE:20200208
DTSTAMP:20260425T201305
CREATED:20190625T071643Z
LAST-MODIFIED:20190704T103152Z
UID:9948-1580688000-1581119999@sprong-college.nl
SUMMARY:Deze week: rapportuitreiking 2 schakelklas
DESCRIPTION:
URL:https://sprong-college.nl/activiteit/rapportuitreiking-2-schakelklas/
END:VEVENT
BEGIN:VEVENT
DTSTART;TZID=Europe/Amsterdam:20200211T120500
DTEND;TZID=Europe/Amsterdam:20200211T120500
DTSTAMP:20260425T201305
CREATED:20191112T102936Z
LAST-MODIFIED:20220913T143215Z
UID:10419-1581422700-1581422700@sprong-college.nl
SUMMARY:Studiemiddag\, vanaf 12.05 uur leerlingen vrij
DESCRIPTION:
URL:https://sprong-college.nl/activiteit/studiemiddag-vanaf-12-05-uur-leerlingen-vrij-2/
END:VEVENT
END:VCALENDAR