BEGIN:VCALENDAR
VERSION:2.0
PRODID:-//Sprongcollege - ECPv6.15.13//NONSGML v1.0//EN
CALSCALE:GREGORIAN
METHOD:PUBLISH
X-WR-CALNAME:Sprongcollege
X-ORIGINAL-URL:https://sprong-college.nl
X-WR-CALDESC:Evenementen voor Sprongcollege
REFRESH-INTERVAL;VALUE=DURATION:PT1H
X-Robots-Tag:noindex
X-PUBLISHED-TTL:PT1H
BEGIN:VTIMEZONE
TZID:Europe/Amsterdam
BEGIN:DAYLIGHT
TZOFFSETFROM:+0100
TZOFFSETTO:+0200
TZNAME:CEST
DTSTART:20190331T010000
END:DAYLIGHT
BEGIN:STANDARD
TZOFFSETFROM:+0200
TZOFFSETTO:+0100
TZNAME:CET
DTSTART:20191027T010000
END:STANDARD
BEGIN:DAYLIGHT
TZOFFSETFROM:+0100
TZOFFSETTO:+0200
TZNAME:CEST
DTSTART:20200329T010000
END:DAYLIGHT
BEGIN:STANDARD
TZOFFSETFROM:+0200
TZOFFSETTO:+0100
TZNAME:CET
DTSTART:20201025T010000
END:STANDARD
BEGIN:DAYLIGHT
TZOFFSETFROM:+0100
TZOFFSETTO:+0200
TZNAME:CEST
DTSTART:20210328T010000
END:DAYLIGHT
BEGIN:STANDARD
TZOFFSETFROM:+0200
TZOFFSETTO:+0100
TZNAME:CET
DTSTART:20211031T010000
END:STANDARD
END:VTIMEZONE
BEGIN:VEVENT
DTSTART;VALUE=DATE:20200427
DTEND;VALUE=DATE:20200502
DTSTAMP:20260425T152946
CREATED:20190704T101124Z
LAST-MODIFIED:20190704T101124Z
UID:10134-1587945600-1588377599@sprong-college.nl
SUMMARY:Meivakantie
DESCRIPTION:
URL:https://sprong-college.nl/activiteit/meivakantie-2/
END:VEVENT
BEGIN:VEVENT
DTSTART;VALUE=DATE:20200505
DTEND;VALUE=DATE:20200506
DTSTAMP:20260425T152946
CREATED:20190704T101309Z
LAST-MODIFIED:20190704T101310Z
UID:10137-1588636800-1588723199@sprong-college.nl
SUMMARY:Bevrijdingsdag
DESCRIPTION:
URL:https://sprong-college.nl/activiteit/bevrijdingsdag/
END:VEVENT
BEGIN:VEVENT
DTSTART;VALUE=DATE:20200506
DTEND;VALUE=DATE:20200507
DTSTAMP:20260425T152946
CREATED:20190625T084617Z
LAST-MODIFIED:20190625T084617Z
UID:9972-1588723200-1588809599@sprong-college.nl
SUMMARY:Sportdag
DESCRIPTION:
URL:https://sprong-college.nl/activiteit/sportdag/
END:VEVENT
BEGIN:VEVENT
DTSTART;TZID=Europe/Amsterdam:20200512T090000
DTEND;TZID=Europe/Amsterdam:20200512T100000
DTSTAMP:20260425T152946
CREATED:20190625T085947Z
LAST-MODIFIED:20190625T085947Z
UID:9977-1589274000-1589277600@sprong-college.nl
SUMMARY:IVIO examen Nederlands
DESCRIPTION:
URL:https://sprong-college.nl/activiteit/ivio-examen-nederlands/
END:VEVENT
BEGIN:VEVENT
DTSTART;TZID=Europe/Amsterdam:20200514T090000
DTEND;TZID=Europe/Amsterdam:20200514T100000
DTSTAMP:20260425T152946
CREATED:20190625T090116Z
LAST-MODIFIED:20190625T091206Z
UID:9979-1589446800-1589450400@sprong-college.nl
SUMMARY:IVIO examen rekenen
DESCRIPTION:
URL:https://sprong-college.nl/activiteit/ivio-examen-rekenen/
END:VEVENT
BEGIN:VEVENT
DTSTART;VALUE=DATE:20200521
DTEND;VALUE=DATE:20200522
DTSTAMP:20260425T152946
CREATED:20190704T101350Z
LAST-MODIFIED:20190704T101350Z
UID:10139-1590019200-1590105599@sprong-college.nl
SUMMARY:Hemelvaart
DESCRIPTION:
URL:https://sprong-college.nl/activiteit/hemelvaart/
END:VEVENT
BEGIN:VEVENT
DTSTART;VALUE=DATE:20200522
DTEND;VALUE=DATE:20200523
DTSTAMP:20260425T152946
CREATED:20190704T101428Z
LAST-MODIFIED:20190704T101428Z
UID:10141-1590105600-1590191999@sprong-college.nl
SUMMARY:Vrije dag
DESCRIPTION:
URL:https://sprong-college.nl/activiteit/vrije-dag/
END:VEVENT
BEGIN:VEVENT
DTSTART;TZID=Europe/Amsterdam:20200525T193000
DTEND;TZID=Europe/Amsterdam:20200525T193000
DTSTAMP:20260425T152946
CREATED:20200121T112040Z
LAST-MODIFIED:20220913T143210Z
UID:10534-1590435000-1590435000@sprong-college.nl
SUMMARY:MR-vergadering
DESCRIPTION:
URL:https://sprong-college.nl/activiteit/mr-vergadering-3/
END:VEVENT
BEGIN:VEVENT
DTSTART;TZID=Europe/Amsterdam:20200526T120500
DTEND;TZID=Europe/Amsterdam:20200526T120500
DTSTAMP:20260425T152946
CREATED:20191112T103318Z
LAST-MODIFIED:20220913T143209Z
UID:10425-1590494700-1590494700@sprong-college.nl
SUMMARY:Studiemiddag\, vanaf 12.05 uur leerlingen vrij
DESCRIPTION:
URL:https://sprong-college.nl/activiteit/studiemiddag-vanaf-12-05-uur-leerlingen-vrij-5/
END:VEVENT
BEGIN:VEVENT
DTSTART;TZID=Europe/Amsterdam:20200526T193000
DTEND;TZID=Europe/Amsterdam:20200526T193000
DTSTAMP:20260425T152946
CREATED:20190903T094750Z
LAST-MODIFIED:20200525T081053Z
UID:10296-1590521400-1590521400@sprong-college.nl
SUMMARY:Vergadering ouderraad locatie Sprongcollege
DESCRIPTION:
URL:https://sprong-college.nl/activiteit/vergadering-ouderraad-locatie-alfrinkcollege/
END:VEVENT
END:VCALENDAR