BEGIN:VCALENDAR
VERSION:2.0
PRODID:-//Sprongcollege - ECPv6.15.13//NONSGML v1.0//EN
CALSCALE:GREGORIAN
METHOD:PUBLISH
X-WR-CALNAME:Sprongcollege
X-ORIGINAL-URL:https://sprong-college.nl
X-WR-CALDESC:Evenementen voor Sprongcollege
REFRESH-INTERVAL;VALUE=DURATION:PT1H
X-Robots-Tag:noindex
X-PUBLISHED-TTL:PT1H
BEGIN:VTIMEZONE
TZID:Europe/Amsterdam
BEGIN:DAYLIGHT
TZOFFSETFROM:+0100
TZOFFSETTO:+0200
TZNAME:CEST
DTSTART:20190331T010000
END:DAYLIGHT
BEGIN:STANDARD
TZOFFSETFROM:+0200
TZOFFSETTO:+0100
TZNAME:CET
DTSTART:20191027T010000
END:STANDARD
BEGIN:DAYLIGHT
TZOFFSETFROM:+0100
TZOFFSETTO:+0200
TZNAME:CEST
DTSTART:20200329T010000
END:DAYLIGHT
BEGIN:STANDARD
TZOFFSETFROM:+0200
TZOFFSETTO:+0100
TZNAME:CET
DTSTART:20201025T010000
END:STANDARD
BEGIN:DAYLIGHT
TZOFFSETFROM:+0100
TZOFFSETTO:+0200
TZNAME:CEST
DTSTART:20210328T010000
END:DAYLIGHT
BEGIN:STANDARD
TZOFFSETFROM:+0200
TZOFFSETTO:+0100
TZNAME:CET
DTSTART:20211031T010000
END:STANDARD
END:VTIMEZONE
BEGIN:VEVENT
DTSTART;VALUE=DATE:20201110
DTEND;VALUE=DATE:20201111
DTSTAMP:20260425T061355
CREATED:20200825T103210Z
LAST-MODIFIED:20200923T085903Z
UID:10770-1604966400-1605052799@sprong-college.nl
SUMMARY:Cultuurdag
DESCRIPTION:
URL:https://sprong-college.nl/activiteit/cultuurdag-2/
END:VEVENT
BEGIN:VEVENT
DTSTART;TZID=Europe/Amsterdam:20201113T000000
DTEND;TZID=Europe/Amsterdam:20201113T000000
DTSTAMP:20260425T061355
CREATED:20200826T080800Z
LAST-MODIFIED:20200826T080801Z
UID:10778-1605225600-1605225600@sprong-college.nl
SUMMARY:Einde periode 1
DESCRIPTION:
URL:https://sprong-college.nl/activiteit/einde-periode-1/
END:VEVENT
BEGIN:VEVENT
DTSTART;TZID=Europe/Amsterdam:20201116T000000
DTEND;TZID=Europe/Amsterdam:20201116T000000
DTSTAMP:20260425T061355
CREATED:20200826T082003Z
LAST-MODIFIED:20200826T082005Z
UID:10780-1605484800-1605484800@sprong-college.nl
SUMMARY:Start periode 2
DESCRIPTION:
URL:https://sprong-college.nl/activiteit/start-periode-2/
END:VEVENT
BEGIN:VEVENT
DTSTART;VALUE=DATE:20201126
DTEND;VALUE=DATE:20201127
DTSTAMP:20260425T061355
CREATED:20200826T090418Z
LAST-MODIFIED:20200826T090419Z
UID:10782-1606348800-1606435199@sprong-college.nl
SUMMARY:Uitreiking rapport 1 schakelklas
DESCRIPTION:
URL:https://sprong-college.nl/activiteit/uitreiking-rapport-1-schakelklas/
END:VEVENT
END:VCALENDAR