BEGIN:VCALENDAR
VERSION:2.0
PRODID:-//Sprongcollege - ECPv6.15.13//NONSGML v1.0//EN
CALSCALE:GREGORIAN
METHOD:PUBLISH
X-WR-CALNAME:Sprongcollege
X-ORIGINAL-URL:https://sprong-college.nl
X-WR-CALDESC:Evenementen voor Sprongcollege
REFRESH-INTERVAL;VALUE=DURATION:PT1H
X-Robots-Tag:noindex
X-PUBLISHED-TTL:PT1H
BEGIN:VTIMEZONE
TZID:Europe/Amsterdam
BEGIN:DAYLIGHT
TZOFFSETFROM:+0100
TZOFFSETTO:+0200
TZNAME:CEST
DTSTART:20190331T010000
END:DAYLIGHT
BEGIN:STANDARD
TZOFFSETFROM:+0200
TZOFFSETTO:+0100
TZNAME:CET
DTSTART:20191027T010000
END:STANDARD
BEGIN:DAYLIGHT
TZOFFSETFROM:+0100
TZOFFSETTO:+0200
TZNAME:CEST
DTSTART:20200329T010000
END:DAYLIGHT
BEGIN:STANDARD
TZOFFSETFROM:+0200
TZOFFSETTO:+0100
TZNAME:CET
DTSTART:20201025T010000
END:STANDARD
BEGIN:DAYLIGHT
TZOFFSETFROM:+0100
TZOFFSETTO:+0200
TZNAME:CEST
DTSTART:20210328T010000
END:DAYLIGHT
BEGIN:STANDARD
TZOFFSETFROM:+0200
TZOFFSETTO:+0100
TZNAME:CET
DTSTART:20211031T010000
END:STANDARD
BEGIN:DAYLIGHT
TZOFFSETFROM:+0100
TZOFFSETTO:+0200
TZNAME:CEST
DTSTART:20220327T010000
END:DAYLIGHT
BEGIN:STANDARD
TZOFFSETFROM:+0200
TZOFFSETTO:+0100
TZNAME:CET
DTSTART:20221030T010000
END:STANDARD
END:VTIMEZONE
BEGIN:VEVENT
DTSTART;TZID=Europe/Amsterdam:20201201T193000
DTEND;TZID=Europe/Amsterdam:20201201T193000
DTSTAMP:20260425T043800
CREATED:20200826T093044Z
LAST-MODIFIED:20200826T093044Z
UID:10784-1606851000-1606851000@sprong-college.nl
SUMMARY:Vergadering ouderraden locatie Alfrinkcollege
DESCRIPTION:
URL:https://sprong-college.nl/activiteit/vergadering-ouderraden-locatie-alfrinkcollege/
END:VEVENT
BEGIN:VEVENT
DTSTART;VALUE=DATE:20201203
DTEND;VALUE=DATE:20201204
DTSTAMP:20260425T043800
CREATED:20200529T075957Z
LAST-MODIFIED:20201201T111800Z
UID:10676-1606953600-1607039999@sprong-college.nl
SUMMARY:Studiedag: leerlingen vrij
DESCRIPTION:
URL:https://sprong-college.nl/activiteit/studiedag-2/
END:VEVENT
BEGIN:VEVENT
DTSTART;VALUE=DATE:20201221
DTEND;VALUE=DATE:20210102
DTSTAMP:20260425T043800
CREATED:20200529T081208Z
LAST-MODIFIED:20200529T081209Z
UID:10678-1608508800-1609545599@sprong-college.nl
SUMMARY:Kerstvakantie
DESCRIPTION:
URL:https://sprong-college.nl/activiteit/kerstvakantie-3/
END:VEVENT
END:VCALENDAR