BEGIN:VCALENDAR
VERSION:2.0
PRODID:-//Sprongcollege - ECPv6.15.13//NONSGML v1.0//EN
CALSCALE:GREGORIAN
METHOD:PUBLISH
X-WR-CALNAME:Sprongcollege
X-ORIGINAL-URL:https://sprong-college.nl
X-WR-CALDESC:Evenementen voor Sprongcollege
REFRESH-INTERVAL;VALUE=DURATION:PT1H
X-Robots-Tag:noindex
X-PUBLISHED-TTL:PT1H
BEGIN:VTIMEZONE
TZID:Europe/Amsterdam
BEGIN:DAYLIGHT
TZOFFSETFROM:+0100
TZOFFSETTO:+0200
TZNAME:CEST
DTSTART:20200329T010000
END:DAYLIGHT
BEGIN:STANDARD
TZOFFSETFROM:+0200
TZOFFSETTO:+0100
TZNAME:CET
DTSTART:20201025T010000
END:STANDARD
BEGIN:DAYLIGHT
TZOFFSETFROM:+0100
TZOFFSETTO:+0200
TZNAME:CEST
DTSTART:20210328T010000
END:DAYLIGHT
BEGIN:STANDARD
TZOFFSETFROM:+0200
TZOFFSETTO:+0100
TZNAME:CET
DTSTART:20211031T010000
END:STANDARD
BEGIN:DAYLIGHT
TZOFFSETFROM:+0100
TZOFFSETTO:+0200
TZNAME:CEST
DTSTART:20220327T010000
END:DAYLIGHT
BEGIN:STANDARD
TZOFFSETFROM:+0200
TZOFFSETTO:+0100
TZNAME:CET
DTSTART:20221030T010000
END:STANDARD
END:VTIMEZONE
BEGIN:VEVENT
DTSTART;VALUE=DATE:20210201
DTEND;VALUE=DATE:20210202
DTSTAMP:20260425T013108
CREATED:20200529T083653Z
LAST-MODIFIED:20200529T083654Z
UID:10697-1612137600-1612223999@sprong-college.nl
SUMMARY:Extra vrije dag
DESCRIPTION:
URL:https://sprong-college.nl/activiteit/extra-vrije-dag-2/
END:VEVENT
BEGIN:VEVENT
DTSTART;VALUE=DATE:20210205
DTEND;VALUE=DATE:20210206
DTSTAMP:20260425T013108
CREATED:20200828T090942Z
LAST-MODIFIED:20200828T090943Z
UID:10793-1612483200-1612569599@sprong-college.nl
SUMMARY:Einde periode 2
DESCRIPTION:
URL:https://sprong-college.nl/activiteit/einde-periode-2/
END:VEVENT
BEGIN:VEVENT
DTSTART;VALUE=DATE:20210208
DTEND;VALUE=DATE:20210209
DTSTAMP:20260425T013108
CREATED:20200828T091100Z
LAST-MODIFIED:20200828T091101Z
UID:10795-1612742400-1612828799@sprong-college.nl
SUMMARY:Start periode 3
DESCRIPTION:
URL:https://sprong-college.nl/activiteit/start-periode-3/
END:VEVENT
BEGIN:VEVENT
DTSTART;TZID=Europe/Amsterdam:20210208T190000
DTEND;TZID=Europe/Amsterdam:20210208T190000
DTSTAMP:20260425T013108
CREATED:20200828T091416Z
LAST-MODIFIED:20201027T105928Z
UID:10797-1612810800-1612810800@sprong-college.nl
SUMMARY:MR vergadering
DESCRIPTION:
URL:https://sprong-college.nl/activiteit/mr-vergadering-5/
END:VEVENT
BEGIN:VEVENT
DTSTART;VALUE=DATE:20210212
DTEND;VALUE=DATE:20210213
DTSTAMP:20260425T013108
CREATED:20200529T081329Z
LAST-MODIFIED:20200529T081330Z
UID:10680-1613088000-1613174399@sprong-college.nl
SUMMARY:Extra vrije dag
DESCRIPTION:
URL:https://sprong-college.nl/activiteit/extra-vrije-dag/
END:VEVENT
BEGIN:VEVENT
DTSTART;VALUE=DATE:20210215
DTEND;VALUE=DATE:20210220
DTSTAMP:20260425T013108
CREATED:20200529T081444Z
LAST-MODIFIED:20200529T084240Z
UID:10682-1613347200-1613779199@sprong-college.nl
SUMMARY:Carnavalsvakantie
DESCRIPTION:
URL:https://sprong-college.nl/activiteit/carnavalsvakantie/
END:VEVENT
BEGIN:VEVENT
DTSTART;VALUE=DATE:20210225
DTEND;VALUE=DATE:20210226
DTSTAMP:20260425T013108
CREATED:20200828T092339Z
LAST-MODIFIED:20200828T092340Z
UID:10801-1614211200-1614297599@sprong-college.nl
SUMMARY:Uitreiking rapport 2 schakelklas
DESCRIPTION:
URL:https://sprong-college.nl/activiteit/uitreiking-rapport-2-schakelklas/
END:VEVENT
END:VCALENDAR