BEGIN:VCALENDAR
VERSION:2.0
PRODID:-//Sprongcollege - ECPv6.15.13//NONSGML v1.0//EN
CALSCALE:GREGORIAN
METHOD:PUBLISH
X-ORIGINAL-URL:https://sprong-college.nl
X-WR-CALDESC:Evenementen voor Sprongcollege
REFRESH-INTERVAL;VALUE=DURATION:PT1H
X-Robots-Tag:noindex
X-PUBLISHED-TTL:PT1H
BEGIN:VTIMEZONE
TZID:Europe/Amsterdam
BEGIN:DAYLIGHT
TZOFFSETFROM:+0100
TZOFFSETTO:+0200
TZNAME:CEST
DTSTART:20200329T010000
END:DAYLIGHT
BEGIN:STANDARD
TZOFFSETFROM:+0200
TZOFFSETTO:+0100
TZNAME:CET
DTSTART:20201025T010000
END:STANDARD
BEGIN:DAYLIGHT
TZOFFSETFROM:+0100
TZOFFSETTO:+0200
TZNAME:CEST
DTSTART:20210328T010000
END:DAYLIGHT
BEGIN:STANDARD
TZOFFSETFROM:+0200
TZOFFSETTO:+0100
TZNAME:CET
DTSTART:20211031T010000
END:STANDARD
BEGIN:DAYLIGHT
TZOFFSETFROM:+0100
TZOFFSETTO:+0200
TZNAME:CEST
DTSTART:20220327T010000
END:DAYLIGHT
BEGIN:STANDARD
TZOFFSETFROM:+0200
TZOFFSETTO:+0100
TZNAME:CET
DTSTART:20221030T010000
END:STANDARD
END:VTIMEZONE
BEGIN:VEVENT
DTSTART;TZID=Europe/Amsterdam:20211101T190000
DTEND;TZID=Europe/Amsterdam:20211101T203000
DTSTAMP:20260424T112442
CREATED:20210910T074007Z
LAST-MODIFIED:20210910T074009Z
UID:11438-1635793200-1635798600@sprong-college.nl
SUMMARY:MR vergadering (begroting)
DESCRIPTION:
URL:https://sprong-college.nl/activiteit/mr-vergadering-begroting/
END:VEVENT
BEGIN:VEVENT
DTSTART;VALUE=DATE:20211119
DTEND;VALUE=DATE:20211120
DTSTAMP:20260424T112442
CREATED:20210910T074153Z
LAST-MODIFIED:20210910T074154Z
UID:11440-1637280000-1637366399@sprong-college.nl
SUMMARY:Einde periode 1
DESCRIPTION:
URL:https://sprong-college.nl/activiteit/einde-periode-1-2/
END:VEVENT
BEGIN:VEVENT
DTSTART;VALUE=DATE:20211122
DTEND;VALUE=DATE:20211123
DTSTAMP:20260424T112442
CREATED:20210910T074225Z
LAST-MODIFIED:20210910T074226Z
UID:11442-1637539200-1637625599@sprong-college.nl
SUMMARY:Start periode 2
DESCRIPTION:
URL:https://sprong-college.nl/activiteit/start-periode-2-2/
END:VEVENT
BEGIN:VEVENT
DTSTART;VALUE=DATE:20211123
DTEND;VALUE=DATE:20211124
DTSTAMP:20260424T112442
CREATED:20211116T090909Z
LAST-MODIFIED:20211116T090910Z
UID:11679-1637625600-1637711999@sprong-college.nl
SUMMARY:Blok 1 sportoriëntatie s4a-s4b-s5a-s5b-s6a
DESCRIPTION:
URL:https://sprong-college.nl/activiteit/blok-1-sportorientatie-s4a-s4b-s5a-s5b-s6a/
END:VEVENT
BEGIN:VEVENT
DTSTART;VALUE=DATE:20211130
DTEND;VALUE=DATE:20211201
DTSTAMP:20260424T112442
CREATED:20211116T090932Z
LAST-MODIFIED:20211116T090933Z
UID:11681-1638230400-1638316799@sprong-college.nl
SUMMARY:Blok 1 sportoriëntatie s4a-s4b-s5a-s5b-s6a
DESCRIPTION:
URL:https://sprong-college.nl/activiteit/blok-1-sportorientatie-s4a-s4b-s5a-s5b-s6a-2/
END:VEVENT
BEGIN:VEVENT
DTSTART;TZID=Europe/Amsterdam:20211130T193000
DTEND;TZID=Europe/Amsterdam:20211130T203000
DTSTAMP:20260424T112442
CREATED:20211116T090411Z
LAST-MODIFIED:20211116T090412Z
UID:11677-1638300600-1638304200@sprong-college.nl
SUMMARY:Ouderavond leerjaar 3
DESCRIPTION:
URL:https://sprong-college.nl/activiteit/ouderavond-leerjaar-3-2/
END:VEVENT
END:VCALENDAR