BEGIN:VCALENDAR
VERSION:2.0
PRODID:-//Sprongcollege - ECPv6.15.13//NONSGML v1.0//EN
CALSCALE:GREGORIAN
METHOD:PUBLISH
X-ORIGINAL-URL:https://sprong-college.nl
X-WR-CALDESC:Evenementen voor Sprongcollege
REFRESH-INTERVAL;VALUE=DURATION:PT1H
X-Robots-Tag:noindex
X-PUBLISHED-TTL:PT1H
BEGIN:VTIMEZONE
TZID:Europe/Amsterdam
BEGIN:DAYLIGHT
TZOFFSETFROM:+0100
TZOFFSETTO:+0200
TZNAME:CEST
DTSTART:20200329T010000
END:DAYLIGHT
BEGIN:STANDARD
TZOFFSETFROM:+0200
TZOFFSETTO:+0100
TZNAME:CET
DTSTART:20201025T010000
END:STANDARD
BEGIN:DAYLIGHT
TZOFFSETFROM:+0100
TZOFFSETTO:+0200
TZNAME:CEST
DTSTART:20210328T010000
END:DAYLIGHT
BEGIN:STANDARD
TZOFFSETFROM:+0200
TZOFFSETTO:+0100
TZNAME:CET
DTSTART:20211031T010000
END:STANDARD
BEGIN:DAYLIGHT
TZOFFSETFROM:+0100
TZOFFSETTO:+0200
TZNAME:CEST
DTSTART:20220327T010000
END:DAYLIGHT
BEGIN:STANDARD
TZOFFSETFROM:+0200
TZOFFSETTO:+0100
TZNAME:CET
DTSTART:20221030T010000
END:STANDARD
END:VTIMEZONE
BEGIN:VEVENT
DTSTART;VALUE=DATE:20211201
DTEND;VALUE=DATE:20211202
DTSTAMP:20260424T094440
CREATED:20210910T074606Z
LAST-MODIFIED:20210910T074607Z
UID:11444-1638316800-1638403199@sprong-college.nl
SUMMARY:Uitreiken rapport schakelklas
DESCRIPTION:
URL:https://sprong-college.nl/activiteit/uitreiken-rapport-schakelklas/
END:VEVENT
BEGIN:VEVENT
DTSTART;TZID=Europe/Amsterdam:20211207T193000
DTEND;TZID=Europe/Amsterdam:20211207T210000
DTSTAMP:20260424T094440
CREATED:20210910T074729Z
LAST-MODIFIED:20211102T102722Z
UID:11446-1638905400-1638910800@sprong-college.nl
SUMMARY:Vergadering ouderraad
DESCRIPTION:
URL:https://sprong-college.nl/activiteit/ouderraad-vergadering-locatie-sprongcollege/
END:VEVENT
BEGIN:VEVENT
DTSTART;VALUE=DATE:20211214
DTEND;VALUE=DATE:20211215
DTSTAMP:20260424T094440
CREATED:20211022T071226Z
LAST-MODIFIED:20211022T071227Z
UID:11646-1639440000-1639526399@sprong-college.nl
SUMMARY:Studiemiddag; leerlingen vrij vanaf 12.05 uur
DESCRIPTION:
URL:https://sprong-college.nl/activiteit/studiemiddag-leerlingen-vrij-vanaf-12-05-uur/
END:VEVENT
BEGIN:VEVENT
DTSTART;VALUE=DATE:20211214
DTEND;VALUE=DATE:20211215
DTSTAMP:20260424T094440
CREATED:20211116T090956Z
LAST-MODIFIED:20211116T090956Z
UID:11683-1639440000-1639526399@sprong-college.nl
SUMMARY:Blok 1 sportoriëntatie s4a-s4b-s5a-s5b-s6a
DESCRIPTION:
URL:https://sprong-college.nl/activiteit/blok-1-sportorientatie-s4a-s4b-s5a-s5b-s6a-3/
END:VEVENT
BEGIN:VEVENT
DTSTART;TZID=Europe/Amsterdam:20211221T190000
DTEND;TZID=Europe/Amsterdam:20211221T210000
DTSTAMP:20260424T094440
CREATED:20210910T074836Z
LAST-MODIFIED:20210910T074837Z
UID:11448-1640113200-1640120400@sprong-college.nl
SUMMARY:Kerstmarkt
DESCRIPTION:
URL:https://sprong-college.nl/activiteit/kerstmarkt/
END:VEVENT
BEGIN:VEVENT
DTSTART;VALUE=DATE:20211224
DTEND;VALUE=DATE:20211225
DTSTAMP:20260424T094440
CREATED:20211207T100356Z
LAST-MODIFIED:20211207T100357Z
UID:11770-1640304000-1640390399@sprong-college.nl
SUMMARY:Vanaf 13.00 uur kerstvakantie
DESCRIPTION:
URL:https://sprong-college.nl/activiteit/vanaf-13-00-uur-kerstvakantie/
END:VEVENT
BEGIN:VEVENT
DTSTART;VALUE=DATE:20211227
DTEND;VALUE=DATE:20220101
DTSTAMP:20260424T094440
CREATED:20210910T074956Z
LAST-MODIFIED:20210910T074957Z
UID:11450-1640563200-1640995199@sprong-college.nl
SUMMARY:Kerstvakantie
DESCRIPTION:
URL:https://sprong-college.nl/activiteit/kerstvakantie-4/
END:VEVENT
END:VCALENDAR