BEGIN:VCALENDAR
VERSION:2.0
PRODID:-//Sprongcollege - ECPv6.15.13//NONSGML v1.0//EN
CALSCALE:GREGORIAN
METHOD:PUBLISH
X-ORIGINAL-URL:https://sprong-college.nl
X-WR-CALDESC:Evenementen voor Sprongcollege
REFRESH-INTERVAL;VALUE=DURATION:PT1H
X-Robots-Tag:noindex
X-PUBLISHED-TTL:PT1H
BEGIN:VTIMEZONE
TZID:Europe/Amsterdam
BEGIN:DAYLIGHT
TZOFFSETFROM:+0100
TZOFFSETTO:+0200
TZNAME:CEST
DTSTART:20210328T010000
END:DAYLIGHT
BEGIN:STANDARD
TZOFFSETFROM:+0200
TZOFFSETTO:+0100
TZNAME:CET
DTSTART:20211031T010000
END:STANDARD
BEGIN:DAYLIGHT
TZOFFSETFROM:+0100
TZOFFSETTO:+0200
TZNAME:CEST
DTSTART:20220327T010000
END:DAYLIGHT
BEGIN:STANDARD
TZOFFSETFROM:+0200
TZOFFSETTO:+0100
TZNAME:CET
DTSTART:20221030T010000
END:STANDARD
BEGIN:DAYLIGHT
TZOFFSETFROM:+0100
TZOFFSETTO:+0200
TZNAME:CEST
DTSTART:20230326T010000
END:DAYLIGHT
BEGIN:STANDARD
TZOFFSETFROM:+0200
TZOFFSETTO:+0100
TZNAME:CET
DTSTART:20231029T010000
END:STANDARD
END:VTIMEZONE
BEGIN:VEVENT
DTSTART;VALUE=DATE:20220405
DTEND;VALUE=DATE:20220406
DTSTAMP:20260424T031840
CREATED:20211022T071422Z
LAST-MODIFIED:20211022T071423Z
UID:11654-1649116800-1649203199@sprong-college.nl
SUMMARY:Studiemiddag; leerlingen vrij vanaf 12.05 uur
DESCRIPTION:
URL:https://sprong-college.nl/activiteit/studiemiddag-leerlingen-vrij-vanaf-12-05-uur-5/
END:VEVENT
BEGIN:VEVENT
DTSTART;VALUE=DATE:20220405
DTEND;VALUE=DATE:20220406
DTSTAMP:20260424T031840
CREATED:20211116T094916Z
LAST-MODIFIED:20211116T094917Z
UID:11699-1649116800-1649203199@sprong-college.nl
SUMMARY:Blok 3 sportoriëntatie s4a-s4b-s5a-s5b-s6a
DESCRIPTION:
URL:https://sprong-college.nl/activiteit/blok-3-sportorientatie-s4a-s4b-s5a-s5b-s6a-4/
END:VEVENT
BEGIN:VEVENT
DTSTART;TZID=Europe/Amsterdam:20220411T190000
DTEND;TZID=Europe/Amsterdam:20220411T203000
DTSTAMP:20260424T031840
CREATED:20210910T091204Z
LAST-MODIFIED:20210910T091204Z
UID:11484-1649703600-1649709000@sprong-college.nl
SUMMARY:MR vergadering
DESCRIPTION:
URL:https://sprong-college.nl/activiteit/mr-vergadering-9/
END:VEVENT
BEGIN:VEVENT
DTSTART;VALUE=DATE:20220412
DTEND;VALUE=DATE:20220413
DTSTAMP:20260424T031840
CREATED:20211116T094941Z
LAST-MODIFIED:20211116T094942Z
UID:11701-1649721600-1649807999@sprong-college.nl
SUMMARY:Blok 3 sportoriëntatie s4a-s4b-s5a-s5b-s6a
DESCRIPTION:
URL:https://sprong-college.nl/activiteit/blok-3-sportorientatie-s4a-s4b-s5a-s5b-s6a-5/
END:VEVENT
BEGIN:VEVENT
DTSTART;VALUE=DATE:20220417
DTEND;VALUE=DATE:20220418
DTSTAMP:20260424T031840
CREATED:20210910T091411Z
LAST-MODIFIED:20210910T091411Z
UID:11489-1650153600-1650239999@sprong-college.nl
SUMMARY:1e Paasdag
DESCRIPTION:
URL:https://sprong-college.nl/activiteit/1e-paasdag-2/
END:VEVENT
BEGIN:VEVENT
DTSTART;VALUE=DATE:20220418
DTEND;VALUE=DATE:20220419
DTSTAMP:20260424T031840
CREATED:20210910T091251Z
LAST-MODIFIED:20210910T091252Z
UID:11486-1650240000-1650326399@sprong-college.nl
SUMMARY:2e Paasdag
DESCRIPTION:
URL:https://sprong-college.nl/activiteit/2e-paasdag-2/
END:VEVENT
BEGIN:VEVENT
DTSTART;VALUE=DATE:20220422
DTEND;VALUE=DATE:20220423
DTSTAMP:20260424T031840
CREATED:20210910T091506Z
LAST-MODIFIED:20210910T091506Z
UID:11491-1650585600-1650671999@sprong-college.nl
SUMMARY:Einde periode 3
DESCRIPTION:
URL:https://sprong-college.nl/activiteit/einde-periode-3-2/
END:VEVENT
BEGIN:VEVENT
DTSTART;VALUE=DATE:20220425
DTEND;VALUE=DATE:20220430
DTSTAMP:20260424T031840
CREATED:20210910T091558Z
LAST-MODIFIED:20210910T091559Z
UID:11493-1650844800-1651276799@sprong-college.nl
SUMMARY:Meivakantie
DESCRIPTION:
URL:https://sprong-college.nl/activiteit/meivakantie-4/
END:VEVENT
END:VCALENDAR