BEGIN:VCALENDAR
VERSION:2.0
PRODID:-//Sprongcollege - ECPv6.15.13//NONSGML v1.0//EN
CALSCALE:GREGORIAN
METHOD:PUBLISH
X-WR-CALNAME:Sprongcollege
X-ORIGINAL-URL:https://sprong-college.nl
X-WR-CALDESC:Evenementen voor Sprongcollege
REFRESH-INTERVAL;VALUE=DURATION:PT1H
X-Robots-Tag:noindex
X-PUBLISHED-TTL:PT1H
BEGIN:VTIMEZONE
TZID:Europe/Amsterdam
BEGIN:DAYLIGHT
TZOFFSETFROM:+0100
TZOFFSETTO:+0200
TZNAME:CEST
DTSTART:20210328T010000
END:DAYLIGHT
BEGIN:STANDARD
TZOFFSETFROM:+0200
TZOFFSETTO:+0100
TZNAME:CET
DTSTART:20211031T010000
END:STANDARD
BEGIN:DAYLIGHT
TZOFFSETFROM:+0100
TZOFFSETTO:+0200
TZNAME:CEST
DTSTART:20220327T010000
END:DAYLIGHT
BEGIN:STANDARD
TZOFFSETFROM:+0200
TZOFFSETTO:+0100
TZNAME:CET
DTSTART:20221030T010000
END:STANDARD
BEGIN:DAYLIGHT
TZOFFSETFROM:+0100
TZOFFSETTO:+0200
TZNAME:CEST
DTSTART:20230326T010000
END:DAYLIGHT
BEGIN:STANDARD
TZOFFSETFROM:+0200
TZOFFSETTO:+0100
TZNAME:CET
DTSTART:20231029T010000
END:STANDARD
END:VTIMEZONE
BEGIN:VEVENT
DTSTART;VALUE=DATE:20220502
DTEND;VALUE=DATE:20220507
DTSTAMP:20260424T013229
CREATED:20210910T091642Z
LAST-MODIFIED:20210910T091642Z
UID:11495-1651449600-1651881599@sprong-college.nl
SUMMARY:Meivakantie
DESCRIPTION:
URL:https://sprong-college.nl/activiteit/meivakantie-5/
END:VEVENT
BEGIN:VEVENT
DTSTART;VALUE=DATE:20220509
DTEND;VALUE=DATE:20220510
DTSTAMP:20260424T013229
CREATED:20210910T091755Z
LAST-MODIFIED:20210910T091756Z
UID:11497-1652054400-1652140799@sprong-college.nl
SUMMARY:Start periode 4
DESCRIPTION:
URL:https://sprong-college.nl/activiteit/start-periode-4-2/
END:VEVENT
BEGIN:VEVENT
DTSTART;VALUE=DATE:20220509
DTEND;VALUE=DATE:20220511
DTSTAMP:20260424T013229
CREATED:20210910T091901Z
LAST-MODIFIED:20210910T091901Z
UID:11499-1652054400-1652227199@sprong-college.nl
SUMMARY:Cito volgtoets 1 schakelklas
DESCRIPTION:
URL:https://sprong-college.nl/activiteit/cito-volgtoets-1-schakelklas/
END:VEVENT
BEGIN:VEVENT
DTSTART;VALUE=DATE:20220517
DTEND;VALUE=DATE:20220518
DTSTAMP:20260424T013229
CREATED:20211116T095018Z
LAST-MODIFIED:20211116T095019Z
UID:11703-1652745600-1652831999@sprong-college.nl
SUMMARY:Blok 4 sportoriëntatie s4a-s4b-s5a-s5b-s6a
DESCRIPTION:
URL:https://sprong-college.nl/activiteit/blok-4-sportorientatie-s4a-s4b-s5a-s5b-s6a/
END:VEVENT
BEGIN:VEVENT
DTSTART;TZID=Europe/Amsterdam:20220517T160000
DTEND;TZID=Europe/Amsterdam:20220517T173000
DTSTAMP:20260424T013229
CREATED:20210910T092038Z
LAST-MODIFIED:20210910T092038Z
UID:11501-1652803200-1652808600@sprong-college.nl
SUMMARY:PMR
DESCRIPTION:
URL:https://sprong-college.nl/activiteit/pmr-3/
END:VEVENT
BEGIN:VEVENT
DTSTART;VALUE=DATE:20220518
DTEND;VALUE=DATE:20220519
DTSTAMP:20260424T013229
CREATED:20210910T092117Z
LAST-MODIFIED:20210910T092117Z
UID:11503-1652832000-1652918399@sprong-college.nl
SUMMARY:Uitreiken rapport schakelklas
DESCRIPTION:
URL:https://sprong-college.nl/activiteit/uitreiken-rapport-schakelklas-2/
END:VEVENT
BEGIN:VEVENT
DTSTART;VALUE=DATE:20220524
DTEND;VALUE=DATE:20220525
DTSTAMP:20260424T013229
CREATED:20211116T095045Z
LAST-MODIFIED:20211116T095045Z
UID:11705-1653350400-1653436799@sprong-college.nl
SUMMARY:Blok 4 sportoriëntatie s4a-s4b-s5a-s5b-s6a
DESCRIPTION:
URL:https://sprong-college.nl/activiteit/blok-4-sportorientatie-s4a-s4b-s5a-s5b-s6a-2/
END:VEVENT
BEGIN:VEVENT
DTSTART;VALUE=DATE:20220525
DTEND;VALUE=DATE:20220526
DTSTAMP:20260424T013229
CREATED:20210910T092159Z
LAST-MODIFIED:20210910T092200Z
UID:11505-1653436800-1653523199@sprong-college.nl
SUMMARY:Sportdag
DESCRIPTION:
URL:https://sprong-college.nl/activiteit/sportdag-3/
END:VEVENT
BEGIN:VEVENT
DTSTART;VALUE=DATE:20220526
DTEND;VALUE=DATE:20220527
DTSTAMP:20260424T013229
CREATED:20210910T092253Z
LAST-MODIFIED:20210910T092254Z
UID:11507-1653523200-1653609599@sprong-college.nl
SUMMARY:Hemelvaart
DESCRIPTION:
URL:https://sprong-college.nl/activiteit/hemelvaart-2/
END:VEVENT
BEGIN:VEVENT
DTSTART;VALUE=DATE:20220527
DTEND;VALUE=DATE:20220528
DTSTAMP:20260424T013229
CREATED:20210910T092335Z
LAST-MODIFIED:20210910T092335Z
UID:11509-1653609600-1653695999@sprong-college.nl
SUMMARY:Vrije dag; dag na Hemelvaart
DESCRIPTION:
URL:https://sprong-college.nl/activiteit/vrije-dag-dag-na-hemelvaart/
END:VEVENT
BEGIN:VEVENT
DTSTART;VALUE=DATE:20220531
DTEND;VALUE=DATE:20220601
DTSTAMP:20260424T013229
CREATED:20211116T095200Z
LAST-MODIFIED:20211116T095201Z
UID:11708-1653955200-1654041599@sprong-college.nl
SUMMARY:Blok 4 sportoriëntatie s4a-s4b-s5a-s5b-s6a
DESCRIPTION:
URL:https://sprong-college.nl/activiteit/blok-4-sportorientatie-s4a-s4b-s5a-s5b-s6a-3/
END:VEVENT
BEGIN:VEVENT
DTSTART;TZID=Europe/Amsterdam:20220531T193000
DTEND;TZID=Europe/Amsterdam:20220531T210000
DTSTAMP:20260424T013229
CREATED:20210910T092432Z
LAST-MODIFIED:20211102T102536Z
UID:11511-1654025400-1654030800@sprong-college.nl
SUMMARY:Vergadering ouderraad
DESCRIPTION:
URL:https://sprong-college.nl/activiteit/ouderraad-locatie-alfrinkcollege/
END:VEVENT
END:VCALENDAR