BEGIN:VCALENDAR
VERSION:2.0
PRODID:-//Sprongcollege - ECPv6.15.13//NONSGML v1.0//EN
CALSCALE:GREGORIAN
METHOD:PUBLISH
X-WR-CALNAME:Sprongcollege
X-ORIGINAL-URL:https://sprong-college.nl
X-WR-CALDESC:Evenementen voor Sprongcollege
REFRESH-INTERVAL;VALUE=DURATION:PT1H
X-Robots-Tag:noindex
X-PUBLISHED-TTL:PT1H
BEGIN:VTIMEZONE
TZID:Europe/Amsterdam
BEGIN:DAYLIGHT
TZOFFSETFROM:+0100
TZOFFSETTO:+0200
TZNAME:CEST
DTSTART:20210328T010000
END:DAYLIGHT
BEGIN:STANDARD
TZOFFSETFROM:+0200
TZOFFSETTO:+0100
TZNAME:CET
DTSTART:20211031T010000
END:STANDARD
BEGIN:DAYLIGHT
TZOFFSETFROM:+0100
TZOFFSETTO:+0200
TZNAME:CEST
DTSTART:20220327T010000
END:DAYLIGHT
BEGIN:STANDARD
TZOFFSETFROM:+0200
TZOFFSETTO:+0100
TZNAME:CET
DTSTART:20221030T010000
END:STANDARD
BEGIN:DAYLIGHT
TZOFFSETFROM:+0100
TZOFFSETTO:+0200
TZNAME:CEST
DTSTART:20230326T010000
END:DAYLIGHT
BEGIN:STANDARD
TZOFFSETFROM:+0200
TZOFFSETTO:+0100
TZNAME:CET
DTSTART:20231029T010000
END:STANDARD
END:VTIMEZONE
BEGIN:VEVENT
DTSTART;VALUE=DATE:20220725
DTEND;VALUE=DATE:20220903
DTSTAMP:20260423T184012
CREATED:20220726T124036Z
LAST-MODIFIED:20220726T124037Z
UID:12157-1658707200-1662163199@sprong-college.nl
SUMMARY:Zomervakantie
DESCRIPTION:
URL:https://sprong-college.nl/activiteit/zomervakantie-3/
END:VEVENT
BEGIN:VEVENT
DTSTART;VALUE=DATE:20220906
DTEND;VALUE=DATE:20220910
DTSTAMP:20260423T184012
CREATED:20220726T124134Z
LAST-MODIFIED:20220726T124135Z
UID:12159-1662422400-1662767999@sprong-college.nl
SUMMARY:Introductieweek
DESCRIPTION:
URL:https://sprong-college.nl/activiteit/introductieweek/
END:VEVENT
BEGIN:VEVENT
DTSTART;VALUE=DATE:20220912
DTEND;VALUE=DATE:20220913
DTSTAMP:20260423T184012
CREATED:20220726T124219Z
LAST-MODIFIED:20220726T124219Z
UID:12161-1662940800-1663027199@sprong-college.nl
SUMMARY:Start periode 1
DESCRIPTION:
URL:https://sprong-college.nl/activiteit/start-periode-1-2/
END:VEVENT
BEGIN:VEVENT
DTSTART;TZID=Europe/Amsterdam:20220919T190000
DTEND;TZID=Europe/Amsterdam:20220919T210000
DTSTAMP:20260423T184012
CREATED:20220726T131652Z
LAST-MODIFIED:20220726T131652Z
UID:12205-1663614000-1663621200@sprong-college.nl
SUMMARY:MR
DESCRIPTION:
URL:https://sprong-college.nl/activiteit/mr-2/
END:VEVENT
BEGIN:VEVENT
DTSTART;VALUE=DATE:20220923
DTEND;VALUE=DATE:20220924
DTSTAMP:20260423T184012
CREATED:20220914T071930Z
LAST-MODIFIED:20220914T071930Z
UID:12282-1663891200-1663977599@sprong-college.nl
SUMMARY:Extra vrije dag i.v.m. 25 jaar IVO Deurne
DESCRIPTION:
URL:https://sprong-college.nl/activiteit/extra-vrije-dag-i-v-m-25-jaar-ivo-deurne/
END:VEVENT
BEGIN:VEVENT
DTSTART;TZID=Europe/Amsterdam:20220927T193000
DTEND;TZID=Europe/Amsterdam:20220927T210000
DTSTAMP:20260423T184012
CREATED:20220726T125144Z
LAST-MODIFIED:20220726T125145Z
UID:12165-1664307000-1664312400@sprong-college.nl
SUMMARY:Informatieavond/ouderavond Pro 1+2\, i klas 1 +2 en 4\, schakelklas
DESCRIPTION:
URL:https://sprong-college.nl/activiteit/informatieavond-ouderavond-pro-12-i-klas-1-2-en-4-schakelklas/
END:VEVENT
BEGIN:VEVENT
DTSTART;TZID=Europe/Amsterdam:20220929T193000
DTEND;TZID=Europe/Amsterdam:20220929T210000
DTSTAMP:20260423T184012
CREATED:20220726T124614Z
LAST-MODIFIED:20220726T125325Z
UID:12163-1664479800-1664485200@sprong-college.nl
SUMMARY:Informatieavond/ouderavond Pro 3 t/m 6 + i klas bovenbouw
DESCRIPTION:
URL:https://sprong-college.nl/activiteit/informatieavond-ouderavond-pro-3-t-m-6-i-klas-bovenbouw/
END:VEVENT
END:VCALENDAR