BEGIN:VCALENDAR
VERSION:2.0
PRODID:-//Sprongcollege - ECPv6.15.13//NONSGML v1.0//EN
CALSCALE:GREGORIAN
METHOD:PUBLISH
X-WR-CALNAME:Sprongcollege
X-ORIGINAL-URL:https://sprong-college.nl
X-WR-CALDESC:Evenementen voor Sprongcollege
REFRESH-INTERVAL;VALUE=DURATION:PT1H
X-Robots-Tag:noindex
X-PUBLISHED-TTL:PT1H
BEGIN:VTIMEZONE
TZID:Europe/Amsterdam
BEGIN:DAYLIGHT
TZOFFSETFROM:+0100
TZOFFSETTO:+0200
TZNAME:CEST
DTSTART:20210328T010000
END:DAYLIGHT
BEGIN:STANDARD
TZOFFSETFROM:+0200
TZOFFSETTO:+0100
TZNAME:CET
DTSTART:20211031T010000
END:STANDARD
BEGIN:DAYLIGHT
TZOFFSETFROM:+0100
TZOFFSETTO:+0200
TZNAME:CEST
DTSTART:20220327T010000
END:DAYLIGHT
BEGIN:STANDARD
TZOFFSETFROM:+0200
TZOFFSETTO:+0100
TZNAME:CET
DTSTART:20221030T010000
END:STANDARD
BEGIN:DAYLIGHT
TZOFFSETFROM:+0100
TZOFFSETTO:+0200
TZNAME:CEST
DTSTART:20230326T010000
END:DAYLIGHT
BEGIN:STANDARD
TZOFFSETFROM:+0200
TZOFFSETTO:+0100
TZNAME:CET
DTSTART:20231029T010000
END:STANDARD
END:VTIMEZONE
BEGIN:VEVENT
DTSTART;VALUE=DATE:20221108
DTEND;VALUE=DATE:20221109
DTSTAMP:20260423T151718
CREATED:20220726T130115Z
LAST-MODIFIED:20221021T090337Z
UID:12179-1667865600-1667951999@sprong-college.nl
SUMMARY:Blok 1 sportoriëntatie
DESCRIPTION:
URL:https://sprong-college.nl/activiteit/sportorientatie/
END:VEVENT
BEGIN:VEVENT
DTSTART;TZID=Europe/Amsterdam:20221114T190000
DTEND;TZID=Europe/Amsterdam:20221114T210000
DTSTAMP:20260423T151718
CREATED:20220726T131517Z
LAST-MODIFIED:20220726T131518Z
UID:12203-1668452400-1668459600@sprong-college.nl
SUMMARY:MR
DESCRIPTION:
URL:https://sprong-college.nl/activiteit/mr/
END:VEVENT
BEGIN:VEVENT
DTSTART;VALUE=DATE:20221115
DTEND;VALUE=DATE:20221116
DTSTAMP:20260423T151718
CREATED:20220726T130405Z
LAST-MODIFIED:20221021T090424Z
UID:12183-1668470400-1668556799@sprong-college.nl
SUMMARY:Blok 1 sportoriëntatie
DESCRIPTION:
URL:https://sprong-college.nl/activiteit/sportorientatie-2/
END:VEVENT
BEGIN:VEVENT
DTSTART;VALUE=DATE:20221118
DTEND;VALUE=DATE:20221119
DTSTAMP:20260423T151718
CREATED:20220726T130035Z
LAST-MODIFIED:20220726T130035Z
UID:12177-1668729600-1668815999@sprong-college.nl
SUMMARY:Einde periode 1
DESCRIPTION:
URL:https://sprong-college.nl/activiteit/einde-periode-1-3/
END:VEVENT
BEGIN:VEVENT
DTSTART;VALUE=DATE:20221121
DTEND;VALUE=DATE:20221122
DTSTAMP:20260423T151718
CREATED:20220726T131128Z
LAST-MODIFIED:20220726T131128Z
UID:12201-1668988800-1669075199@sprong-college.nl
SUMMARY:Start periode 2
DESCRIPTION:
URL:https://sprong-college.nl/activiteit/start-periode-2-3/
END:VEVENT
BEGIN:VEVENT
DTSTART;VALUE=DATE:20221122
DTEND;VALUE=DATE:20221123
DTSTAMP:20260423T151718
CREATED:20220726T130553Z
LAST-MODIFIED:20221021T090524Z
UID:12189-1669075200-1669161599@sprong-college.nl
SUMMARY:Blok 1 sportoriëntatie
DESCRIPTION:
URL:https://sprong-college.nl/activiteit/sportorientatie-3/
END:VEVENT
BEGIN:VEVENT
DTSTART;VALUE=DATE:20221130
DTEND;VALUE=DATE:20221201
DTSTAMP:20260423T151718
CREATED:20220726T130455Z
LAST-MODIFIED:20220726T130455Z
UID:12185-1669766400-1669852799@sprong-college.nl
SUMMARY:Uitreiken rapport schakelklas
DESCRIPTION:
URL:https://sprong-college.nl/activiteit/uitreiken-rapport-schakelklas-4/
END:VEVENT
END:VCALENDAR