BEGIN:VCALENDAR
VERSION:2.0
PRODID:-//Sprongcollege - ECPv6.15.13//NONSGML v1.0//EN
CALSCALE:GREGORIAN
METHOD:PUBLISH
X-WR-CALNAME:Sprongcollege
X-ORIGINAL-URL:https://sprong-college.nl
X-WR-CALDESC:Evenementen voor Sprongcollege
REFRESH-INTERVAL;VALUE=DURATION:PT1H
X-Robots-Tag:noindex
X-PUBLISHED-TTL:PT1H
BEGIN:VTIMEZONE
TZID:Europe/Amsterdam
BEGIN:DAYLIGHT
TZOFFSETFROM:+0100
TZOFFSETTO:+0200
TZNAME:CEST
DTSTART:20220327T010000
END:DAYLIGHT
BEGIN:STANDARD
TZOFFSETFROM:+0200
TZOFFSETTO:+0100
TZNAME:CET
DTSTART:20221030T010000
END:STANDARD
BEGIN:DAYLIGHT
TZOFFSETFROM:+0100
TZOFFSETTO:+0200
TZNAME:CEST
DTSTART:20230326T010000
END:DAYLIGHT
BEGIN:STANDARD
TZOFFSETFROM:+0200
TZOFFSETTO:+0100
TZNAME:CET
DTSTART:20231029T010000
END:STANDARD
BEGIN:DAYLIGHT
TZOFFSETFROM:+0100
TZOFFSETTO:+0200
TZNAME:CEST
DTSTART:20240331T010000
END:DAYLIGHT
BEGIN:STANDARD
TZOFFSETFROM:+0200
TZOFFSETTO:+0100
TZNAME:CET
DTSTART:20241027T010000
END:STANDARD
END:VTIMEZONE
BEGIN:VEVENT
DTSTART;TZID=Europe/Amsterdam:20230403T190000
DTEND;TZID=Europe/Amsterdam:20230403T210000
DTSTAMP:20260423T070912
CREATED:20220928T094001Z
LAST-MODIFIED:20220928T094002Z
UID:12344-1680548400-1680555600@sprong-college.nl
SUMMARY:MR vergadering
DESCRIPTION:
URL:https://sprong-college.nl/activiteit/mr-vergadering-11/
END:VEVENT
BEGIN:VEVENT
DTSTART;TZID=Europe/Amsterdam:20230404T090000
DTEND;TZID=Europe/Amsterdam:20230404T103000
DTSTAMP:20260423T070912
CREATED:20230303T074723Z
LAST-MODIFIED:20230303T074725Z
UID:12538-1680598800-1680604200@sprong-college.nl
SUMMARY:Examens IVIO
DESCRIPTION:
URL:https://sprong-college.nl/activiteit/examens-ivio/
END:VEVENT
BEGIN:VEVENT
DTSTART;TZID=Europe/Amsterdam:20230406T090000
DTEND;TZID=Europe/Amsterdam:20230406T103000
DTSTAMP:20260423T070912
CREATED:20230303T074804Z
LAST-MODIFIED:20230303T074805Z
UID:12540-1680771600-1680777000@sprong-college.nl
SUMMARY:Examens IVIO
DESCRIPTION:
URL:https://sprong-college.nl/activiteit/examens-ivio-2/
END:VEVENT
BEGIN:VEVENT
DTSTART;VALUE=DATE:20230407
DTEND;VALUE=DATE:20230408
DTSTAMP:20260423T070912
CREATED:20220928T094137Z
LAST-MODIFIED:20220928T094138Z
UID:12347-1680825600-1680911999@sprong-college.nl
SUMMARY:Einde periode 3
DESCRIPTION:
URL:https://sprong-college.nl/activiteit/einde-periode-3-3/
END:VEVENT
BEGIN:VEVENT
DTSTART;TZID=Europe/Amsterdam:20230410T080000
DTEND;TZID=Europe/Amsterdam:20230410T170000
DTSTAMP:20260423T070912
CREATED:20220928T094215Z
LAST-MODIFIED:20220928T094216Z
UID:12349-1681113600-1681146000@sprong-college.nl
SUMMARY:2e Paasdag
DESCRIPTION:
URL:https://sprong-college.nl/activiteit/2e-paasdag-3/
END:VEVENT
BEGIN:VEVENT
DTSTART;VALUE=DATE:20230417
DTEND;VALUE=DATE:20230418
DTSTAMP:20260423T070912
CREATED:20220928T091641Z
LAST-MODIFIED:20221216T094909Z
UID:12334-1681689600-1681775999@sprong-college.nl
SUMMARY:Start lange stage leerjaar 3
DESCRIPTION:
URL:https://sprong-college.nl/activiteit/start-lange-stage-leerjaar-3-2/
END:VEVENT
BEGIN:VEVENT
DTSTART;VALUE=DATE:20230424
DTEND;VALUE=DATE:20230429
DTSTAMP:20260423T070912
CREATED:20220928T094349Z
LAST-MODIFIED:20220928T094351Z
UID:12351-1682294400-1682726399@sprong-college.nl
SUMMARY:Meivakantie
DESCRIPTION:
URL:https://sprong-college.nl/activiteit/meivakantie-6/
END:VEVENT
END:VCALENDAR