BEGIN:VCALENDAR
VERSION:2.0
PRODID:-//Sprongcollege - ECPv6.15.13//NONSGML v1.0//EN
CALSCALE:GREGORIAN
METHOD:PUBLISH
X-ORIGINAL-URL:https://sprong-college.nl
X-WR-CALDESC:Evenementen voor Sprongcollege
REFRESH-INTERVAL;VALUE=DURATION:PT1H
X-Robots-Tag:noindex
X-PUBLISHED-TTL:PT1H
BEGIN:VTIMEZONE
TZID:Europe/Amsterdam
BEGIN:DAYLIGHT
TZOFFSETFROM:+0100
TZOFFSETTO:+0200
TZNAME:CEST
DTSTART:20220327T010000
END:DAYLIGHT
BEGIN:STANDARD
TZOFFSETFROM:+0200
TZOFFSETTO:+0100
TZNAME:CET
DTSTART:20221030T010000
END:STANDARD
BEGIN:DAYLIGHT
TZOFFSETFROM:+0100
TZOFFSETTO:+0200
TZNAME:CEST
DTSTART:20230326T010000
END:DAYLIGHT
BEGIN:STANDARD
TZOFFSETFROM:+0200
TZOFFSETTO:+0100
TZNAME:CET
DTSTART:20231029T010000
END:STANDARD
BEGIN:DAYLIGHT
TZOFFSETFROM:+0100
TZOFFSETTO:+0200
TZNAME:CEST
DTSTART:20240331T010000
END:DAYLIGHT
BEGIN:STANDARD
TZOFFSETFROM:+0200
TZOFFSETTO:+0100
TZNAME:CET
DTSTART:20241027T010000
END:STANDARD
END:VTIMEZONE
BEGIN:VEVENT
DTSTART;VALUE=DATE:20230501
DTEND;VALUE=DATE:20230506
DTSTAMP:20260423T052954
CREATED:20220928T094421Z
LAST-MODIFIED:20220928T094422Z
UID:12353-1682899200-1683331199@sprong-college.nl
SUMMARY:Meivakantie
DESCRIPTION:
URL:https://sprong-college.nl/activiteit/meivakantie-7/
END:VEVENT
BEGIN:VEVENT
DTSTART;VALUE=DATE:20230509
DTEND;VALUE=DATE:20230510
DTSTAMP:20260423T052954
CREATED:20221021T093341Z
LAST-MODIFIED:20221216T095322Z
UID:12448-1683590400-1683676799@sprong-college.nl
SUMMARY:Blok 4 sportoriëntatie
DESCRIPTION:
URL:https://sprong-college.nl/activiteit/blok-4-sportorientatie/
END:VEVENT
BEGIN:VEVENT
DTSTART;VALUE=DATE:20230516
DTEND;VALUE=DATE:20230517
DTSTAMP:20260423T052954
CREATED:20220930T094539Z
LAST-MODIFIED:20221216T095350Z
UID:12376-1684195200-1684281599@sprong-college.nl
SUMMARY:Blok 4 sportoriëntatie
DESCRIPTION:
URL:https://sprong-college.nl/activiteit/sportorientatie-13/
END:VEVENT
BEGIN:VEVENT
DTSTART;VALUE=DATE:20230516
DTEND;VALUE=DATE:20230517
DTSTAMP:20260423T052954
CREATED:20230328T064843Z
LAST-MODIFIED:20230328T064845Z
UID:12550-1684195200-1684281599@sprong-college.nl
SUMMARY:Tijd voor Talentblok 3
DESCRIPTION:
URL:https://sprong-college.nl/activiteit/tijd-voor-talentblok-3/
END:VEVENT
BEGIN:VEVENT
DTSTART;VALUE=DATE:20230517
DTEND;VALUE=DATE:20230518
DTSTAMP:20260423T052954
CREATED:20220930T092512Z
LAST-MODIFIED:20220930T092513Z
UID:12364-1684281600-1684367999@sprong-college.nl
SUMMARY:Sportdag
DESCRIPTION:
URL:https://sprong-college.nl/activiteit/sportdag-4/
END:VEVENT
BEGIN:VEVENT
DTSTART;VALUE=DATE:20230518
DTEND;VALUE=DATE:20230519
DTSTAMP:20260423T052954
CREATED:20220930T092622Z
LAST-MODIFIED:20220930T092623Z
UID:12366-1684368000-1684454399@sprong-college.nl
SUMMARY:Hemelvaart
DESCRIPTION:
URL:https://sprong-college.nl/activiteit/hemelvaart-3/
END:VEVENT
BEGIN:VEVENT
DTSTART;VALUE=DATE:20230519
DTEND;VALUE=DATE:20230520
DTSTAMP:20260423T052954
CREATED:20220930T092714Z
LAST-MODIFIED:20220930T092717Z
UID:12368-1684454400-1684540799@sprong-college.nl
SUMMARY:Vrije dag; dag na Hemelvaart
DESCRIPTION:
URL:https://sprong-college.nl/activiteit/vrije-dag-dag-na-hemelvaart-2/
END:VEVENT
BEGIN:VEVENT
DTSTART;TZID=Europe/Amsterdam:20230522T190000
DTEND;TZID=Europe/Amsterdam:20230522T210000
DTSTAMP:20260423T052954
CREATED:20220930T072139Z
LAST-MODIFIED:20220930T072140Z
UID:12358-1684782000-1684789200@sprong-college.nl
SUMMARY:MR vergadering
DESCRIPTION:
URL:https://sprong-college.nl/activiteit/mr-vergadering-12/
END:VEVENT
BEGIN:VEVENT
DTSTART;VALUE=DATE:20230523
DTEND;VALUE=DATE:20230524
DTSTAMP:20260423T052954
CREATED:20221021T093640Z
LAST-MODIFIED:20221216T095426Z
UID:12451-1684800000-1684886399@sprong-college.nl
SUMMARY:Blok 4 sportoriëntatie
DESCRIPTION:
URL:https://sprong-college.nl/activiteit/blok-4-sportorientatie-2/
END:VEVENT
BEGIN:VEVENT
DTSTART;VALUE=DATE:20230523
DTEND;VALUE=DATE:20230524
DTSTAMP:20260423T052954
CREATED:20230328T064906Z
LAST-MODIFIED:20230328T064908Z
UID:12552-1684800000-1684886399@sprong-college.nl
SUMMARY:Tijd voor Talentblok 3
DESCRIPTION:
URL:https://sprong-college.nl/activiteit/tijd-voor-talentblok-3-2/
END:VEVENT
BEGIN:VEVENT
DTSTART;TZID=Europe/Amsterdam:20230523T090000
DTEND;TZID=Europe/Amsterdam:20230523T103000
DTSTAMP:20260423T052954
CREATED:20230303T074914Z
LAST-MODIFIED:20230303T074916Z
UID:12542-1684832400-1684837800@sprong-college.nl
SUMMARY:Examens IVIO Nederlands
DESCRIPTION:
URL:https://sprong-college.nl/activiteit/examens-ivio-nederlands/
END:VEVENT
BEGIN:VEVENT
DTSTART;TZID=Europe/Amsterdam:20230525T090000
DTEND;TZID=Europe/Amsterdam:20230525T103000
DTSTAMP:20260423T052954
CREATED:20230303T075001Z
LAST-MODIFIED:20230303T075002Z
UID:12544-1685005200-1685010600@sprong-college.nl
SUMMARY:Examens IVIO rekenen
DESCRIPTION:
URL:https://sprong-college.nl/activiteit/examens-ivio-rekenen/
END:VEVENT
BEGIN:VEVENT
DTSTART;VALUE=DATE:20230529
DTEND;VALUE=DATE:20230530
DTSTAMP:20260423T052954
CREATED:20220930T092845Z
LAST-MODIFIED:20220930T092847Z
UID:12370-1685318400-1685404799@sprong-college.nl
SUMMARY:2e Pinksterdag
DESCRIPTION:
URL:https://sprong-college.nl/activiteit/2e-pinksterdag-4/
END:VEVENT
BEGIN:VEVENT
DTSTART;VALUE=DATE:20230530
DTEND;VALUE=DATE:20230531
DTSTAMP:20260423T052954
CREATED:20230328T064926Z
LAST-MODIFIED:20230328T064927Z
UID:12554-1685404800-1685491199@sprong-college.nl
SUMMARY:Tijd voor Talentblok 3
DESCRIPTION:
URL:https://sprong-college.nl/activiteit/tijd-voor-talentblok-3-3/
END:VEVENT
BEGIN:VEVENT
DTSTART;TZID=Europe/Amsterdam:20230530T193000
DTEND;TZID=Europe/Amsterdam:20230530T193000
DTSTAMP:20260423T052954
CREATED:20220930T072217Z
LAST-MODIFIED:20220930T072219Z
UID:12360-1685475000-1685475000@sprong-college.nl
SUMMARY:Vergadering ouderraad
DESCRIPTION:
URL:https://sprong-college.nl/activiteit/vergadering-ouderraad-3/
END:VEVENT
END:VCALENDAR