BEGIN:VCALENDAR
VERSION:2.0
PRODID:-//Sprongcollege - ECPv6.15.13//NONSGML v1.0//EN
CALSCALE:GREGORIAN
METHOD:PUBLISH
X-ORIGINAL-URL:https://sprong-college.nl
X-WR-CALDESC:Evenementen voor Sprongcollege
REFRESH-INTERVAL;VALUE=DURATION:PT1H
X-Robots-Tag:noindex
X-PUBLISHED-TTL:PT1H
BEGIN:VTIMEZONE
TZID:Europe/Amsterdam
BEGIN:DAYLIGHT
TZOFFSETFROM:+0100
TZOFFSETTO:+0200
TZNAME:CEST
DTSTART:20220327T010000
END:DAYLIGHT
BEGIN:STANDARD
TZOFFSETFROM:+0200
TZOFFSETTO:+0100
TZNAME:CET
DTSTART:20221030T010000
END:STANDARD
BEGIN:DAYLIGHT
TZOFFSETFROM:+0100
TZOFFSETTO:+0200
TZNAME:CEST
DTSTART:20230326T010000
END:DAYLIGHT
BEGIN:STANDARD
TZOFFSETFROM:+0200
TZOFFSETTO:+0100
TZNAME:CET
DTSTART:20231029T010000
END:STANDARD
BEGIN:DAYLIGHT
TZOFFSETFROM:+0100
TZOFFSETTO:+0200
TZNAME:CEST
DTSTART:20240331T010000
END:DAYLIGHT
BEGIN:STANDARD
TZOFFSETFROM:+0200
TZOFFSETTO:+0100
TZNAME:CET
DTSTART:20241027T010000
END:STANDARD
END:VTIMEZONE
BEGIN:VEVENT
DTSTART;TZID=Europe/Amsterdam:20230704T160000
DTEND;TZID=Europe/Amsterdam:20230704T180000
DTSTAMP:20260423T020317
CREATED:20220930T095129Z
LAST-MODIFIED:20220930T095131Z
UID:12386-1688486400-1688493600@sprong-college.nl
SUMMARY:Diplomauitreiking
DESCRIPTION:
URL:https://sprong-college.nl/activiteit/diplomauitreiking-2/
END:VEVENT
BEGIN:VEVENT
DTSTART;VALUE=DATE:20230707
DTEND;VALUE=DATE:20230708
DTSTAMP:20260423T020317
CREATED:20220930T095212Z
LAST-MODIFIED:20220930T095214Z
UID:12388-1688688000-1688774399@sprong-college.nl
SUMMARY:Einde periode 4
DESCRIPTION:
URL:https://sprong-college.nl/activiteit/einde-periode-4-2/
END:VEVENT
BEGIN:VEVENT
DTSTART;VALUE=DATE:20230710
DTEND;VALUE=DATE:20230711
DTSTAMP:20260423T020317
CREATED:20220930T095657Z
LAST-MODIFIED:20220930T095658Z
UID:12390-1688947200-1689033599@sprong-college.nl
SUMMARY:Leerlingen dienen beschikbaar te zijn voor schoolzaken
DESCRIPTION:
URL:https://sprong-college.nl/activiteit/leerlingen-dienen-beschikbaar-te-zijn-voor-schoolzaken-5/
END:VEVENT
BEGIN:VEVENT
DTSTART;VALUE=DATE:20230711
DTEND;VALUE=DATE:20230712
DTSTAMP:20260423T020317
CREATED:20220930T095723Z
LAST-MODIFIED:20220930T095724Z
UID:12392-1689033600-1689119999@sprong-college.nl
SUMMARY:Leerlingen dienen beschikbaar te zijn voor schoolzaken
DESCRIPTION:
URL:https://sprong-college.nl/activiteit/leerlingen-dienen-beschikbaar-te-zijn-voor-schoolzaken-6/
END:VEVENT
BEGIN:VEVENT
DTSTART;VALUE=DATE:20230712
DTEND;VALUE=DATE:20230713
DTSTAMP:20260423T020317
CREATED:20220930T095859Z
LAST-MODIFIED:20220930T095859Z
UID:12398-1689120000-1689206399@sprong-college.nl
SUMMARY:Leerlingen verplicht aanwezig
DESCRIPTION:
URL:https://sprong-college.nl/activiteit/leerlingen-verplicht-aanwezig-3/
END:VEVENT
BEGIN:VEVENT
DTSTART;VALUE=DATE:20230713
DTEND;VALUE=DATE:20230714
DTSTAMP:20260423T020317
CREATED:20220930T095748Z
LAST-MODIFIED:20220930T095750Z
UID:12394-1689206400-1689292799@sprong-college.nl
SUMMARY:Leerlingen dienen beschikbaar te zijn voor schoolzaken
DESCRIPTION:
URL:https://sprong-college.nl/activiteit/leerlingen-dienen-beschikbaar-te-zijn-voor-schoolzaken-7/
END:VEVENT
BEGIN:VEVENT
DTSTART;VALUE=DATE:20230714
DTEND;VALUE=DATE:20230715
DTSTAMP:20260423T020317
CREATED:20220930T095818Z
LAST-MODIFIED:20220930T095820Z
UID:12396-1689292800-1689379199@sprong-college.nl
SUMMARY:Leerlingen dienen beschikbaar te zijn voor schoolzaken
DESCRIPTION:
URL:https://sprong-college.nl/activiteit/leerlingen-dienen-beschikbaar-te-zijn-voor-schoolzaken-8/
END:VEVENT
BEGIN:VEVENT
DTSTART;VALUE=DATE:20230717
DTEND;VALUE=DATE:20230722
DTSTAMP:20260423T020317
CREATED:20220930T095946Z
LAST-MODIFIED:20220930T095948Z
UID:12400-1689552000-1689983999@sprong-college.nl
SUMMARY:Zomervakantie
DESCRIPTION:
URL:https://sprong-college.nl/activiteit/zomervakantie-4/
END:VEVENT
BEGIN:VEVENT
DTSTART;VALUE=DATE:20230724
DTEND;VALUE=DATE:20230729
DTSTAMP:20260423T020317
CREATED:20220930T100026Z
LAST-MODIFIED:20220930T100027Z
UID:12402-1690156800-1690588799@sprong-college.nl
SUMMARY:Zomervakantie
DESCRIPTION:
URL:https://sprong-college.nl/activiteit/zomervakantie-5/
END:VEVENT
BEGIN:VEVENT
DTSTART;VALUE=DATE:20230731
DTEND;VALUE=DATE:20230805
DTSTAMP:20260423T020317
CREATED:20220930T100055Z
LAST-MODIFIED:20230201T105615Z
UID:12404-1690761600-1691193599@sprong-college.nl
SUMMARY:Zomervakantie
DESCRIPTION:
URL:https://sprong-college.nl/activiteit/zomervakantie-6/
END:VEVENT
END:VCALENDAR