BEGIN:VCALENDAR
VERSION:2.0
PRODID:-//Sprongcollege - ECPv6.15.13//NONSGML v1.0//EN
CALSCALE:GREGORIAN
METHOD:PUBLISH
X-ORIGINAL-URL:https://sprong-college.nl
X-WR-CALDESC:Evenementen voor Sprongcollege
REFRESH-INTERVAL;VALUE=DURATION:PT1H
X-Robots-Tag:noindex
X-PUBLISHED-TTL:PT1H
BEGIN:VTIMEZONE
TZID:Europe/Amsterdam
BEGIN:DAYLIGHT
TZOFFSETFROM:+0100
TZOFFSETTO:+0200
TZNAME:CEST
DTSTART:20220327T010000
END:DAYLIGHT
BEGIN:STANDARD
TZOFFSETFROM:+0200
TZOFFSETTO:+0100
TZNAME:CET
DTSTART:20221030T010000
END:STANDARD
BEGIN:DAYLIGHT
TZOFFSETFROM:+0100
TZOFFSETTO:+0200
TZNAME:CEST
DTSTART:20230326T010000
END:DAYLIGHT
BEGIN:STANDARD
TZOFFSETFROM:+0200
TZOFFSETTO:+0100
TZNAME:CET
DTSTART:20231029T010000
END:STANDARD
BEGIN:DAYLIGHT
TZOFFSETFROM:+0100
TZOFFSETTO:+0200
TZNAME:CEST
DTSTART:20240331T010000
END:DAYLIGHT
BEGIN:STANDARD
TZOFFSETFROM:+0200
TZOFFSETTO:+0100
TZNAME:CET
DTSTART:20241027T010000
END:STANDARD
END:VTIMEZONE
BEGIN:VEVENT
DTSTART;VALUE=DATE:20230829
DTEND;VALUE=DATE:20230902
DTSTAMP:20260422T224859
CREATED:20230711T085520Z
LAST-MODIFIED:20230711T085520Z
UID:12637-1693267200-1693612799@sprong-college.nl
SUMMARY:Introductie
DESCRIPTION:
URL:https://sprong-college.nl/activiteit/introductie/
END:VEVENT
BEGIN:VEVENT
DTSTART;VALUE=DATE:20230904
DTEND;VALUE=DATE:20230905
DTSTAMP:20260422T224859
CREATED:20230711T085556Z
LAST-MODIFIED:20230711T085556Z
UID:12639-1693785600-1693871999@sprong-college.nl
SUMMARY:Deze week start stage bovenbouw
DESCRIPTION:
URL:https://sprong-college.nl/activiteit/deze-week-start-stage-bovenbouw/
END:VEVENT
BEGIN:VEVENT
DTSTART;TZID=Europe/Amsterdam:20230919T190000
DTEND;TZID=Europe/Amsterdam:20230919T203000
DTSTAMP:20260422T224859
CREATED:20230711T094107Z
LAST-MODIFIED:20230711T094107Z
UID:12646-1695150000-1695155400@sprong-college.nl
SUMMARY:Informatieavond leerjaar 1+2+i-klas ob+schakelklas
DESCRIPTION:
URL:https://sprong-college.nl/activiteit/informatieavond-leerjaar-12i-klas-obschakelklas/
END:VEVENT
BEGIN:VEVENT
DTSTART;TZID=Europe/Amsterdam:20230919T193000
DTEND;TZID=Europe/Amsterdam:20230919T193000
DTSTAMP:20260422T224859
CREATED:20230711T093816Z
LAST-MODIFIED:20240702T085837Z
UID:12644-1695151800-1695151800@sprong-college.nl
SUMMARY:Vergadering ouderraad
DESCRIPTION:
URL:https://sprong-college.nl/activiteit/vergadering-ouderraad-locatie-hc-2/
END:VEVENT
BEGIN:VEVENT
DTSTART;TZID=Europe/Amsterdam:20230921T190000
DTEND;TZID=Europe/Amsterdam:20230921T203000
DTSTAMP:20260422T224859
CREATED:20230711T094320Z
LAST-MODIFIED:20230711T094320Z
UID:12648-1695322800-1695328200@sprong-college.nl
SUMMARY:Informatieavond leerjaar 3+4+5+6+i-klas bb
DESCRIPTION:
URL:https://sprong-college.nl/activiteit/informatieavond-leerjaar-3456i-klas-bb/
END:VEVENT
END:VCALENDAR