BEGIN:VCALENDAR
VERSION:2.0
PRODID:-//Sprongcollege - ECPv6.15.13//NONSGML v1.0//EN
CALSCALE:GREGORIAN
METHOD:PUBLISH
X-WR-CALNAME:Sprongcollege
X-ORIGINAL-URL:https://sprong-college.nl
X-WR-CALDESC:Evenementen voor Sprongcollege
REFRESH-INTERVAL;VALUE=DURATION:PT1H
X-Robots-Tag:noindex
X-PUBLISHED-TTL:PT1H
BEGIN:VTIMEZONE
TZID:Europe/Amsterdam
BEGIN:DAYLIGHT
TZOFFSETFROM:+0100
TZOFFSETTO:+0200
TZNAME:CEST
DTSTART:20220327T010000
END:DAYLIGHT
BEGIN:STANDARD
TZOFFSETFROM:+0200
TZOFFSETTO:+0100
TZNAME:CET
DTSTART:20221030T010000
END:STANDARD
BEGIN:DAYLIGHT
TZOFFSETFROM:+0100
TZOFFSETTO:+0200
TZNAME:CEST
DTSTART:20230326T010000
END:DAYLIGHT
BEGIN:STANDARD
TZOFFSETFROM:+0200
TZOFFSETTO:+0100
TZNAME:CET
DTSTART:20231029T010000
END:STANDARD
BEGIN:DAYLIGHT
TZOFFSETFROM:+0100
TZOFFSETTO:+0200
TZNAME:CEST
DTSTART:20240331T010000
END:DAYLIGHT
BEGIN:STANDARD
TZOFFSETFROM:+0200
TZOFFSETTO:+0100
TZNAME:CET
DTSTART:20241027T010000
END:STANDARD
END:VTIMEZONE
BEGIN:VEVENT
DTSTART;TZID=Europe/Amsterdam:20231009T193000
DTEND;TZID=Europe/Amsterdam:20231009T210000
DTSTAMP:20260422T211641
CREATED:20230712T060518Z
LAST-MODIFIED:20230712T060518Z
UID:12662-1696879800-1696885200@sprong-college.nl
SUMMARY:Informatieavond stage leerjaar 3
DESCRIPTION:
URL:https://sprong-college.nl/activiteit/informatieavond-stage-leerjaar-3/
END:VEVENT
BEGIN:VEVENT
DTSTART;VALUE=DATE:20231016
DTEND;VALUE=DATE:20231021
DTSTAMP:20260422T211641
CREATED:20230201T105345Z
LAST-MODIFIED:20230201T105347Z
UID:12515-1697414400-1697846399@sprong-college.nl
SUMMARY:Herfstvakantie
DESCRIPTION:
URL:https://sprong-college.nl/activiteit/herfstvakantie-4/
END:VEVENT
BEGIN:VEVENT
DTSTART;TZID=Europe/Amsterdam:20231030T193000
DTEND;TZID=Europe/Amsterdam:20231030T193000
DTSTAMP:20260422T211641
CREATED:20230712T060735Z
LAST-MODIFIED:20230712T060736Z
UID:12664-1698694200-1698694200@sprong-college.nl
SUMMARY:Thema-avond voor ouders locatie Cultuurcentrum Deurne
DESCRIPTION:
URL:https://sprong-college.nl/activiteit/thema-avond-voor-ouders-locatie-cultuurcentrum-deurne/
END:VEVENT
BEGIN:VEVENT
DTSTART;VALUE=DATE:20231031
DTEND;VALUE=DATE:20231101
DTSTAMP:20260422T211641
CREATED:20230712T060819Z
LAST-MODIFIED:20230712T060819Z
UID:12666-1698710400-1698796799@sprong-college.nl
SUMMARY:Cultuurdag
DESCRIPTION:
URL:https://sprong-college.nl/activiteit/cultuurdag-5/
END:VEVENT
END:VCALENDAR