BEGIN:VCALENDAR
VERSION:2.0
PRODID:-//Sprongcollege - ECPv6.15.13//NONSGML v1.0//EN
CALSCALE:GREGORIAN
METHOD:PUBLISH
X-WR-CALNAME:Sprongcollege
X-ORIGINAL-URL:https://sprong-college.nl
X-WR-CALDESC:Evenementen voor Sprongcollege
REFRESH-INTERVAL;VALUE=DURATION:PT1H
X-Robots-Tag:noindex
X-PUBLISHED-TTL:PT1H
BEGIN:VTIMEZONE
TZID:Europe/Amsterdam
BEGIN:DAYLIGHT
TZOFFSETFROM:+0100
TZOFFSETTO:+0200
TZNAME:CEST
DTSTART:20220327T010000
END:DAYLIGHT
BEGIN:STANDARD
TZOFFSETFROM:+0200
TZOFFSETTO:+0100
TZNAME:CET
DTSTART:20221030T010000
END:STANDARD
BEGIN:DAYLIGHT
TZOFFSETFROM:+0100
TZOFFSETTO:+0200
TZNAME:CEST
DTSTART:20230326T010000
END:DAYLIGHT
BEGIN:STANDARD
TZOFFSETFROM:+0200
TZOFFSETTO:+0100
TZNAME:CET
DTSTART:20231029T010000
END:STANDARD
BEGIN:DAYLIGHT
TZOFFSETFROM:+0100
TZOFFSETTO:+0200
TZNAME:CEST
DTSTART:20240331T010000
END:DAYLIGHT
BEGIN:STANDARD
TZOFFSETFROM:+0200
TZOFFSETTO:+0100
TZNAME:CET
DTSTART:20241027T010000
END:STANDARD
END:VTIMEZONE
BEGIN:VEVENT
DTSTART;VALUE=DATE:20231201
DTEND;VALUE=DATE:20231202
DTSTAMP:20260422T141330
CREATED:20230712T063129Z
LAST-MODIFIED:20230712T070641Z
UID:12678-1701388800-1701475199@sprong-college.nl
SUMMARY:Einde periode 1 voor schakelklas
DESCRIPTION:
URL:https://sprong-college.nl/activiteit/einde-periode-1-schakelklas/
END:VEVENT
BEGIN:VEVENT
DTSTART;VALUE=DATE:20231204
DTEND;VALUE=DATE:20231205
DTSTAMP:20260422T141330
CREATED:20230712T070618Z
LAST-MODIFIED:20230712T070619Z
UID:12682-1701648000-1701734399@sprong-college.nl
SUMMARY:Start periode 2 voor schakelklas
DESCRIPTION:
URL:https://sprong-college.nl/activiteit/start-periode-2-voor-schakelklas/
END:VEVENT
BEGIN:VEVENT
DTSTART;TZID=Europe/Amsterdam:20231205T083000
DTEND;TZID=Europe/Amsterdam:20231205T092000
DTSTAMP:20260422T141330
CREATED:20231103T085728Z
LAST-MODIFIED:20231103T090141Z
UID:12921-1701765000-1701768000@sprong-college.nl
SUMMARY:1e lesuur vrij voor s1a
DESCRIPTION:
URL:https://sprong-college.nl/activiteit/1e-lesuur-vrij-voor-schakelklas-s1a/
END:VEVENT
BEGIN:VEVENT
DTSTART;TZID=Europe/Amsterdam:20231205T103000
DTEND;TZID=Europe/Amsterdam:20231205T120000
DTSTAMP:20260422T141330
CREATED:20230712T070743Z
LAST-MODIFIED:20230712T070744Z
UID:12685-1701772200-1701777600@sprong-college.nl
SUMMARY:Sinterklaasactiviteit
DESCRIPTION:
URL:https://sprong-college.nl/activiteit/sinterklaasactiviteit/
END:VEVENT
BEGIN:VEVENT
DTSTART;TZID=Europe/Amsterdam:20231205T120000
DTEND;TZID=Europe/Amsterdam:20231205T120000
DTSTAMP:20260422T141330
CREATED:20230712T070938Z
LAST-MODIFIED:20230712T070938Z
UID:12687-1701777600-1701777600@sprong-college.nl
SUMMARY:Vanaf 12.00 uur leerlingen vrij\,(geldt niet voor leerlingen op stage)
DESCRIPTION:
URL:https://sprong-college.nl/activiteit/vanaf-12-00-uur-leerlingen-vrijgeldt-niet-voor-leerlingen-op-stage/
END:VEVENT
BEGIN:VEVENT
DTSTART;VALUE=DATE:20231206
DTEND;VALUE=DATE:20231207
DTSTAMP:20260422T141330
CREATED:20231103T090731Z
LAST-MODIFIED:20231103T090732Z
UID:12925-1701820800-1701907199@sprong-college.nl
SUMMARY:Alle leerlingen les 1 en 2 vrij (kadootje Sinterklaas)
DESCRIPTION:
URL:https://sprong-college.nl/activiteit/alle-leerlingen-les-1-en-2-vrij-kadootje-sinterklaas/
END:VEVENT
BEGIN:VEVENT
DTSTART;TZID=Europe/Amsterdam:20231212T193000
DTEND;TZID=Europe/Amsterdam:20231212T193000
DTSTAMP:20260422T141330
CREATED:20230712T071114Z
LAST-MODIFIED:20230912T095938Z
UID:12689-1702409400-1702409400@sprong-college.nl
SUMMARY:Vergadering ouderraad locatie Peellandcollege
DESCRIPTION:
URL:https://sprong-college.nl/activiteit/vergadering-ouderraad-locatie-sprongcollege-2/
END:VEVENT
BEGIN:VEVENT
DTSTART;VALUE=DATE:20231213
DTEND;VALUE=DATE:20231214
DTSTAMP:20260422T141330
CREATED:20230712T072317Z
LAST-MODIFIED:20230712T072317Z
UID:12691-1702425600-1702511999@sprong-college.nl
SUMMARY:Uitreiking rapport schakelklas
DESCRIPTION:
URL:https://sprong-college.nl/activiteit/uitreiking-rapport-schakelklas-2/
END:VEVENT
BEGIN:VEVENT
DTSTART;TZID=Europe/Amsterdam:20231219T120000
DTEND;TZID=Europe/Amsterdam:20231219T120000
DTSTAMP:20260422T141330
CREATED:20230712T072759Z
LAST-MODIFIED:20230718T102904Z
UID:12697-1702987200-1702987200@sprong-college.nl
SUMMARY:Vanaf 12.00 uur leerlingen vrij (geldt niet voor leerlingen op stage)
DESCRIPTION:
URL:https://sprong-college.nl/activiteit/vanaf-12-00-uur-leerlingen-vrij-geldt-niet-voor-leerlingen-op-stage/
END:VEVENT
BEGIN:VEVENT
DTSTART;TZID=Europe/Amsterdam:20231219T190000
DTEND;TZID=Europe/Amsterdam:20231219T210000
DTSTAMP:20260422T141330
CREATED:20230712T072505Z
LAST-MODIFIED:20230718T102937Z
UID:12695-1703012400-1703019600@sprong-college.nl
SUMMARY:Kerstmarkt
DESCRIPTION:
URL:https://sprong-college.nl/activiteit/kerstmarkt-3/
END:VEVENT
BEGIN:VEVENT
DTSTART;TZID=Europe/Amsterdam:20231222T083000
DTEND;TZID=Europe/Amsterdam:20231222T110000
DTSTAMP:20260422T141330
CREATED:20230712T072417Z
LAST-MODIFIED:20231215T075517Z
UID:12693-1703233800-1703242800@sprong-college.nl
SUMMARY:Kerstontbijt en een afsluiting met eigen klas
DESCRIPTION:
URL:https://sprong-college.nl/activiteit/kerstactiviteit-met-eigen-klas/
END:VEVENT
BEGIN:VEVENT
DTSTART;TZID=Europe/Amsterdam:20231222T110000
DTEND;TZID=Europe/Amsterdam:20231222T110000
DTSTAMP:20260422T141330
CREATED:20231213T101941Z
LAST-MODIFIED:20231215T075601Z
UID:12945-1703242800-1703242800@sprong-college.nl
SUMMARY:Vanaf 11.00 uur leerlingen vrij (geldt niet voor leerlingen op stage)
DESCRIPTION:
URL:https://sprong-college.nl/activiteit/vanaf-12-00-uur-leerlingen-vrij-geldt-niet-voor-leerlingen-op-stage-2/
END:VEVENT
BEGIN:VEVENT
DTSTART;VALUE=DATE:20231225
DTEND;VALUE=DATE:20231230
DTSTAMP:20260422T141330
CREATED:20230920T093801Z
LAST-MODIFIED:20230920T093801Z
UID:12758-1703462400-1703894399@sprong-college.nl
SUMMARY:Kerstvakantie
DESCRIPTION:
URL:https://sprong-college.nl/activiteit/kerstvakantie-9/
END:VEVENT
END:VCALENDAR