BEGIN:VCALENDAR
VERSION:2.0
PRODID:-//Sprongcollege - ECPv6.15.13//NONSGML v1.0//EN
CALSCALE:GREGORIAN
METHOD:PUBLISH
X-WR-CALNAME:Sprongcollege
X-ORIGINAL-URL:https://sprong-college.nl
X-WR-CALDESC:Evenementen voor Sprongcollege
REFRESH-INTERVAL;VALUE=DURATION:PT1H
X-Robots-Tag:noindex
X-PUBLISHED-TTL:PT1H
BEGIN:VTIMEZONE
TZID:Europe/Amsterdam
BEGIN:DAYLIGHT
TZOFFSETFROM:+0100
TZOFFSETTO:+0200
TZNAME:CEST
DTSTART:20230326T010000
END:DAYLIGHT
BEGIN:STANDARD
TZOFFSETFROM:+0200
TZOFFSETTO:+0100
TZNAME:CET
DTSTART:20231029T010000
END:STANDARD
BEGIN:DAYLIGHT
TZOFFSETFROM:+0100
TZOFFSETTO:+0200
TZNAME:CEST
DTSTART:20240331T010000
END:DAYLIGHT
BEGIN:STANDARD
TZOFFSETFROM:+0200
TZOFFSETTO:+0100
TZNAME:CET
DTSTART:20241027T010000
END:STANDARD
BEGIN:DAYLIGHT
TZOFFSETFROM:+0100
TZOFFSETTO:+0200
TZNAME:CEST
DTSTART:20250330T010000
END:DAYLIGHT
BEGIN:STANDARD
TZOFFSETFROM:+0200
TZOFFSETTO:+0100
TZNAME:CET
DTSTART:20251026T010000
END:STANDARD
END:VTIMEZONE
BEGIN:VEVENT
DTSTART;VALUE=DATE:20240401
DTEND;VALUE=DATE:20240402
DTSTAMP:20260422T074815
CREATED:20230922T080213Z
LAST-MODIFIED:20230922T080213Z
UID:12811-1711929600-1712015999@sprong-college.nl
SUMMARY:2e Paasdag
DESCRIPTION:
URL:https://sprong-college.nl/activiteit/2e-paasdag-4/
END:VEVENT
BEGIN:VEVENT
DTSTART;VALUE=DATE:20240402
DTEND;VALUE=DATE:20240403
DTSTAMP:20260422T074815
CREATED:20230922T080254Z
LAST-MODIFIED:20230922T080255Z
UID:12813-1712016000-1712102399@sprong-college.nl
SUMMARY:Snuffelstage 3 leerjaar 3
DESCRIPTION:
URL:https://sprong-college.nl/activiteit/snuffelstage-3-leerjaar-3/
END:VEVENT
BEGIN:VEVENT
DTSTART;VALUE=DATE:20240402
DTEND;VALUE=DATE:20240403
DTSTAMP:20260422T074815
CREATED:20231201T083048Z
LAST-MODIFIED:20231201T083048Z
UID:12935-1712016000-1712102399@sprong-college.nl
SUMMARY:Cultuurdag 2
DESCRIPTION:
URL:https://sprong-college.nl/activiteit/cultuurdag-2-2/
END:VEVENT
BEGIN:VEVENT
DTSTART;VALUE=DATE:20240415
DTEND;VALUE=DATE:20240416
DTSTAMP:20260422T074815
CREATED:20230922T080402Z
LAST-MODIFIED:20230922T080402Z
UID:12815-1713139200-1713225599@sprong-college.nl
SUMMARY:Start lange stage leerjaar 3
DESCRIPTION:
URL:https://sprong-college.nl/activiteit/start-lange-stage-leerjaar-3-3/
END:VEVENT
BEGIN:VEVENT
DTSTART;VALUE=DATE:20240419
DTEND;VALUE=DATE:20240420
DTSTAMP:20260422T074815
CREATED:20230922T083930Z
LAST-MODIFIED:20230922T083930Z
UID:12817-1713484800-1713571199@sprong-college.nl
SUMMARY:Einde periode 3 PRO
DESCRIPTION:
URL:https://sprong-college.nl/activiteit/einde-periode-3-pro/
END:VEVENT
BEGIN:VEVENT
DTSTART;VALUE=DATE:20240422
DTEND;VALUE=DATE:20240427
DTSTAMP:20260422T074815
CREATED:20230922T084002Z
LAST-MODIFIED:20230922T084003Z
UID:12819-1713744000-1714175999@sprong-college.nl
SUMMARY:Meivakantie
DESCRIPTION:
URL:https://sprong-college.nl/activiteit/meivakantie-8/
END:VEVENT
BEGIN:VEVENT
DTSTART;VALUE=DATE:20240429
DTEND;VALUE=DATE:20240504
DTSTAMP:20260422T074815
CREATED:20230922T084031Z
LAST-MODIFIED:20230922T084031Z
UID:12821-1714348800-1714780799@sprong-college.nl
SUMMARY:Meivakantie
DESCRIPTION:
URL:https://sprong-college.nl/activiteit/meivakantie-9/
END:VEVENT
END:VCALENDAR