BEGIN:VCALENDAR
VERSION:2.0
PRODID:-//Sprongcollege - ECPv6.15.13//NONSGML v1.0//EN
CALSCALE:GREGORIAN
METHOD:PUBLISH
X-WR-CALNAME:Sprongcollege
X-ORIGINAL-URL:https://sprong-college.nl
X-WR-CALDESC:Evenementen voor Sprongcollege
REFRESH-INTERVAL;VALUE=DURATION:PT1H
X-Robots-Tag:noindex
X-PUBLISHED-TTL:PT1H
BEGIN:VTIMEZONE
TZID:Europe/Amsterdam
BEGIN:DAYLIGHT
TZOFFSETFROM:+0100
TZOFFSETTO:+0200
TZNAME:CEST
DTSTART:20230326T010000
END:DAYLIGHT
BEGIN:STANDARD
TZOFFSETFROM:+0200
TZOFFSETTO:+0100
TZNAME:CET
DTSTART:20231029T010000
END:STANDARD
BEGIN:DAYLIGHT
TZOFFSETFROM:+0100
TZOFFSETTO:+0200
TZNAME:CEST
DTSTART:20240331T010000
END:DAYLIGHT
BEGIN:STANDARD
TZOFFSETFROM:+0200
TZOFFSETTO:+0100
TZNAME:CET
DTSTART:20241027T010000
END:STANDARD
BEGIN:DAYLIGHT
TZOFFSETFROM:+0100
TZOFFSETTO:+0200
TZNAME:CEST
DTSTART:20250330T010000
END:DAYLIGHT
BEGIN:STANDARD
TZOFFSETFROM:+0200
TZOFFSETTO:+0100
TZNAME:CET
DTSTART:20251026T010000
END:STANDARD
END:VTIMEZONE
BEGIN:VEVENT
DTSTART;VALUE=DATE:20240429
DTEND;VALUE=DATE:20240504
DTSTAMP:20260422T061345
CREATED:20230922T084031Z
LAST-MODIFIED:20230922T084031Z
UID:12821-1714348800-1714780799@sprong-college.nl
SUMMARY:Meivakantie
DESCRIPTION:
URL:https://sprong-college.nl/activiteit/meivakantie-9/
END:VEVENT
BEGIN:VEVENT
DTSTART;VALUE=DATE:20240506
DTEND;VALUE=DATE:20240507
DTSTAMP:20260422T061345
CREATED:20230922T095843Z
LAST-MODIFIED:20230922T095843Z
UID:12856-1714953600-1715039999@sprong-college.nl
SUMMARY:Start periode 4 PRO
DESCRIPTION:
URL:https://sprong-college.nl/activiteit/start-periode-4-pro/
END:VEVENT
BEGIN:VEVENT
DTSTART;VALUE=DATE:20240514
DTEND;VALUE=DATE:20240515
DTSTAMP:20260422T061345
CREATED:20230922T084139Z
LAST-MODIFIED:20230922T084140Z
UID:12823-1715644800-1715731199@sprong-college.nl
SUMMARY:Tijd voor talent blok 4
DESCRIPTION:
URL:https://sprong-college.nl/activiteit/tijd-voor-talent-blok-4/
END:VEVENT
BEGIN:VEVENT
DTSTART;TZID=Europe/Amsterdam:20240514T090000
DTEND;TZID=Europe/Amsterdam:20240514T110000
DTSTAMP:20260422T061345
CREATED:20240119T090405Z
LAST-MODIFIED:20240123T093943Z
UID:12982-1715677200-1715684400@sprong-college.nl
SUMMARY:IVIO examen Nederlands
DESCRIPTION:
URL:https://sprong-college.nl/activiteit/ivio-examen-nederlands-2/
END:VEVENT
BEGIN:VEVENT
DTSTART;TZID=Europe/Amsterdam:20240514T190000
DTEND;TZID=Europe/Amsterdam:20240514T210000
DTSTAMP:20260422T061345
CREATED:20230922T084223Z
LAST-MODIFIED:20230922T084224Z
UID:12825-1715713200-1715720400@sprong-college.nl
SUMMARY:Vergadering MR
DESCRIPTION:
URL:https://sprong-college.nl/activiteit/vergadering-mr-3/
END:VEVENT
BEGIN:VEVENT
DTSTART;TZID=Europe/Amsterdam:20240516T090000
DTEND;TZID=Europe/Amsterdam:20240516T110000
DTSTAMP:20260422T061345
CREATED:20240119T090447Z
LAST-MODIFIED:20240315T085549Z
UID:12985-1715850000-1715857200@sprong-college.nl
SUMMARY:IVIO examen Rekenen
DESCRIPTION:
URL:https://sprong-college.nl/activiteit/ivio-examen-rekenen-2/
END:VEVENT
BEGIN:VEVENT
DTSTART;VALUE=DATE:20240520
DTEND;VALUE=DATE:20240521
DTSTAMP:20260422T061345
CREATED:20230922T084258Z
LAST-MODIFIED:20230922T084259Z
UID:12827-1716163200-1716249599@sprong-college.nl
SUMMARY:2e Pinksterdag
DESCRIPTION:
URL:https://sprong-college.nl/activiteit/2e-pinksterdag-5/
END:VEVENT
BEGIN:VEVENT
DTSTART;VALUE=DATE:20240521
DTEND;VALUE=DATE:20240522
DTSTAMP:20260422T061345
CREATED:20230922T084343Z
LAST-MODIFIED:20230922T084343Z
UID:12829-1716249600-1716335999@sprong-college.nl
SUMMARY:Tijd voor talent blok 4
DESCRIPTION:
URL:https://sprong-college.nl/activiteit/tijd-voor-talent-blok-4-2/
END:VEVENT
BEGIN:VEVENT
DTSTART;TZID=Europe/Amsterdam:20240521T193000
DTEND;TZID=Europe/Amsterdam:20240521T203000
DTSTAMP:20260422T061345
CREATED:20230922T084500Z
LAST-MODIFIED:20230922T084501Z
UID:12831-1716319800-1716323400@sprong-college.nl
SUMMARY:Vergadering ouderraad locatie PC
DESCRIPTION:
URL:https://sprong-college.nl/activiteit/vergadering-ouderraad-locatie-pc/
END:VEVENT
BEGIN:VEVENT
DTSTART;VALUE=DATE:20240527
DTEND;VALUE=DATE:20240528
DTSTAMP:20260422T061345
CREATED:20230922T094758Z
LAST-MODIFIED:20230922T094759Z
UID:12834-1716768000-1716854399@sprong-college.nl
SUMMARY:Opbrengstenweek 2
DESCRIPTION:
URL:https://sprong-college.nl/activiteit/opbrengstenweek-2/
END:VEVENT
BEGIN:VEVENT
DTSTART;TZID=Europe/Amsterdam:20240527T180000
DTEND;TZID=Europe/Amsterdam:20240527T190000
DTSTAMP:20260422T061345
CREATED:20240329T080953Z
LAST-MODIFIED:20240329T081230Z
UID:13040-1716832800-1716836400@sprong-college.nl
SUMMARY:Diner leerjaar 3
DESCRIPTION:
URL:https://sprong-college.nl/activiteit/diner-klas-3/
END:VEVENT
BEGIN:VEVENT
DTSTART;TZID=Europe/Amsterdam:20240527T190000
DTEND;TZID=Europe/Amsterdam:20240527T190000
DTSTAMP:20260422T061345
CREATED:20240329T081317Z
LAST-MODIFIED:20240329T081459Z
UID:13043-1716836400-1716836400@sprong-college.nl
SUMMARY:Presentaties leerjaar 3
DESCRIPTION:
URL:https://sprong-college.nl/activiteit/start-presentaties-leerjaar-3/
END:VEVENT
BEGIN:VEVENT
DTSTART;TZID=Europe/Amsterdam:20240530T190000
DTEND;TZID=Europe/Amsterdam:20240530T190000
DTSTAMP:20260422T061345
CREATED:20230922T095228Z
LAST-MODIFIED:20240329T081551Z
UID:12840-1717095600-1717095600@sprong-college.nl
SUMMARY:Presentaties leerjaar 1+2+iklas ob+schakelklas
DESCRIPTION:
URL:https://sprong-college.nl/activiteit/presentatie-leerjaar-12iklas-obschakelklas/
END:VEVENT
END:VCALENDAR