BEGIN:VCALENDAR
VERSION:2.0
PRODID:-//Sprongcollege - ECPv6.15.13//NONSGML v1.0//EN
CALSCALE:GREGORIAN
METHOD:PUBLISH
X-ORIGINAL-URL:https://sprong-college.nl
X-WR-CALDESC:Evenementen voor Sprongcollege
REFRESH-INTERVAL;VALUE=DURATION:PT1H
X-Robots-Tag:noindex
X-PUBLISHED-TTL:PT1H
BEGIN:VTIMEZONE
TZID:Europe/Amsterdam
BEGIN:DAYLIGHT
TZOFFSETFROM:+0100
TZOFFSETTO:+0200
TZNAME:CEST
DTSTART:20230326T010000
END:DAYLIGHT
BEGIN:STANDARD
TZOFFSETFROM:+0200
TZOFFSETTO:+0100
TZNAME:CET
DTSTART:20231029T010000
END:STANDARD
BEGIN:DAYLIGHT
TZOFFSETFROM:+0100
TZOFFSETTO:+0200
TZNAME:CEST
DTSTART:20240331T010000
END:DAYLIGHT
BEGIN:STANDARD
TZOFFSETFROM:+0200
TZOFFSETTO:+0100
TZNAME:CET
DTSTART:20241027T010000
END:STANDARD
BEGIN:DAYLIGHT
TZOFFSETFROM:+0100
TZOFFSETTO:+0200
TZNAME:CEST
DTSTART:20250330T010000
END:DAYLIGHT
BEGIN:STANDARD
TZOFFSETFROM:+0200
TZOFFSETTO:+0100
TZNAME:CET
DTSTART:20251026T010000
END:STANDARD
END:VTIMEZONE
BEGIN:VEVENT
DTSTART;VALUE=DATE:20240604
DTEND;VALUE=DATE:20240605
DTSTAMP:20260422T042320
CREATED:20230922T094934Z
LAST-MODIFIED:20230922T095024Z
UID:12836-1717459200-1717545599@sprong-college.nl
SUMMARY:Leerlingen vanaf 12.00 uur vrij met uitzondering van stage
DESCRIPTION:
URL:https://sprong-college.nl/activiteit/leerlingen-vanaf-12-00-uur-vrij-met-uitzondering-van-stage-3/
END:VEVENT
BEGIN:VEVENT
DTSTART;VALUE=DATE:20240611
DTEND;VALUE=DATE:20240612
DTSTAMP:20260422T042320
CREATED:20231201T083152Z
LAST-MODIFIED:20231201T083152Z
UID:12937-1718064000-1718150399@sprong-college.nl
SUMMARY:Schoolreisje
DESCRIPTION:
URL:https://sprong-college.nl/activiteit/schoolreisje/
END:VEVENT
BEGIN:VEVENT
DTSTART;TZID=Europe/Amsterdam:20240617T180000
DTEND;TZID=Europe/Amsterdam:20240617T213000
DTSTAMP:20260422T042320
CREATED:20230922T095323Z
LAST-MODIFIED:20230922T095324Z
UID:12842-1718647200-1718659800@sprong-college.nl
SUMMARY:Avondopenstelling rapportgesprekken
DESCRIPTION:
URL:https://sprong-college.nl/activiteit/avondopenstelling-rapportgesprekken/
END:VEVENT
BEGIN:VEVENT
DTSTART;TZID=Europe/Amsterdam:20240618T190000
DTEND;TZID=Europe/Amsterdam:20240618T210000
DTSTAMP:20260422T042320
CREATED:20230922T095431Z
LAST-MODIFIED:20230922T095431Z
UID:12844-1718737200-1718744400@sprong-college.nl
SUMMARY:Vergadering MR (vandaag ook etentje + afscheid leden)
DESCRIPTION:
URL:https://sprong-college.nl/activiteit/vergadering-mr-vandaag-ook-etentje-afscheid-leden/
END:VEVENT
BEGIN:VEVENT
DTSTART;TZID=Europe/Amsterdam:20240620T190000
DTEND;TZID=Europe/Amsterdam:20240620T210000
DTSTAMP:20260422T042320
CREATED:20230922T095516Z
LAST-MODIFIED:20240614T074333Z
UID:12846-1718910000-1718917200@sprong-college.nl
SUMMARY:Schoolfeest
DESCRIPTION:
URL:https://sprong-college.nl/activiteit/schoolfeest-5/
END:VEVENT
BEGIN:VEVENT
DTSTART;VALUE=DATE:20240621
DTEND;VALUE=DATE:20240622
DTSTAMP:20260422T042320
CREATED:20240123T101807Z
LAST-MODIFIED:20240123T101807Z
UID:12988-1718928000-1719014399@sprong-college.nl
SUMMARY:Laatste stagedag 2023-2024 uitstromers
DESCRIPTION:
URL:https://sprong-college.nl/activiteit/laatste-stagedag-2023-2024-uitstromers/
END:VEVENT
BEGIN:VEVENT
DTSTART;TZID=Europe/Amsterdam:20240627T160000
DTEND;TZID=Europe/Amsterdam:20240627T180000
DTSTAMP:20260422T042320
CREATED:20230922T095624Z
LAST-MODIFIED:20230922T095624Z
UID:12850-1719504000-1719511200@sprong-college.nl
SUMMARY:Diplomauitreiking
DESCRIPTION:
URL:https://sprong-college.nl/activiteit/diplomauitreiking-3/
END:VEVENT
BEGIN:VEVENT
DTSTART;VALUE=DATE:20240628
DTEND;VALUE=DATE:20240629
DTSTAMP:20260422T042320
CREATED:20230922T095659Z
LAST-MODIFIED:20230922T095659Z
UID:12852-1719532800-1719619199@sprong-college.nl
SUMMARY:Einde periode 3 schakelklas
DESCRIPTION:
URL:https://sprong-college.nl/activiteit/einde-periode-3-schakelklas/
END:VEVENT
BEGIN:VEVENT
DTSTART;VALUE=DATE:20240628
DTEND;VALUE=DATE:20240629
DTSTAMP:20260422T042320
CREATED:20230922T095726Z
LAST-MODIFIED:20230922T095726Z
UID:12854-1719532800-1719619199@sprong-college.nl
SUMMARY:Einde periode 4 PRO
DESCRIPTION:
URL:https://sprong-college.nl/activiteit/einde-periode-4-pro/
END:VEVENT
BEGIN:VEVENT
DTSTART;VALUE=DATE:20240628
DTEND;VALUE=DATE:20240629
DTSTAMP:20260422T042320
CREATED:20240123T101855Z
LAST-MODIFIED:20240123T101855Z
UID:12990-1719532800-1719619199@sprong-college.nl
SUMMARY:Laatste stage dag 2023-2024 voor leerlingen die 2024-2025 blijven
DESCRIPTION:
URL:https://sprong-college.nl/activiteit/laatste-stage-dag-2023-2024-voor-leerlingen-die-2024-2025-blijven/
END:VEVENT
END:VCALENDAR