BEGIN:VCALENDAR
VERSION:2.0
PRODID:-//Sprongcollege - ECPv6.15.13//NONSGML v1.0//EN
CALSCALE:GREGORIAN
METHOD:PUBLISH
X-ORIGINAL-URL:https://sprong-college.nl
X-WR-CALDESC:Evenementen voor Sprongcollege
REFRESH-INTERVAL;VALUE=DURATION:PT1H
X-Robots-Tag:noindex
X-PUBLISHED-TTL:PT1H
BEGIN:VTIMEZONE
TZID:Europe/Amsterdam
BEGIN:DAYLIGHT
TZOFFSETFROM:+0100
TZOFFSETTO:+0200
TZNAME:CEST
DTSTART:20230326T010000
END:DAYLIGHT
BEGIN:STANDARD
TZOFFSETFROM:+0200
TZOFFSETTO:+0100
TZNAME:CET
DTSTART:20231029T010000
END:STANDARD
BEGIN:DAYLIGHT
TZOFFSETFROM:+0100
TZOFFSETTO:+0200
TZNAME:CEST
DTSTART:20240331T010000
END:DAYLIGHT
BEGIN:STANDARD
TZOFFSETFROM:+0200
TZOFFSETTO:+0100
TZNAME:CET
DTSTART:20241027T010000
END:STANDARD
BEGIN:DAYLIGHT
TZOFFSETFROM:+0100
TZOFFSETTO:+0200
TZNAME:CEST
DTSTART:20250330T010000
END:DAYLIGHT
BEGIN:STANDARD
TZOFFSETFROM:+0200
TZOFFSETTO:+0100
TZNAME:CET
DTSTART:20251026T010000
END:STANDARD
END:VTIMEZONE
BEGIN:VEVENT
DTSTART;VALUE=DATE:20240701
DTEND;VALUE=DATE:20240703
DTSTAMP:20260422T025404
CREATED:20230922T095944Z
LAST-MODIFIED:20230922T095944Z
UID:12858-1719792000-1719964799@sprong-college.nl
SUMMARY:Leerlingen dienen beschikbaar te zijn voor schoolzaken
DESCRIPTION:
URL:https://sprong-college.nl/activiteit/leerlingen-dienen-beschikbaar-te-zijn-voor-schoolzaken-9/
END:VEVENT
BEGIN:VEVENT
DTSTART;VALUE=DATE:20240703
DTEND;VALUE=DATE:20240704
DTSTAMP:20260422T025404
CREATED:20230922T100034Z
LAST-MODIFIED:20230922T100034Z
UID:12862-1719964800-1720051199@sprong-college.nl
SUMMARY:Leerlingen verplicht aanwezig
DESCRIPTION:
URL:https://sprong-college.nl/activiteit/leerlingen-verplicht-aanwezig-4/
END:VEVENT
BEGIN:VEVENT
DTSTART;VALUE=DATE:20240703
DTEND;VALUE=DATE:20240704
DTSTAMP:20260422T025404
CREATED:20230929T092137Z
LAST-MODIFIED:20230929T092138Z
UID:12878-1719964800-1720051199@sprong-college.nl
SUMMARY:Kennismaking nieuwe klas en mentor
DESCRIPTION:
URL:https://sprong-college.nl/activiteit/kennismaking-nieuwe-klas-en-mentor/
END:VEVENT
BEGIN:VEVENT
DTSTART;VALUE=DATE:20240703
DTEND;VALUE=DATE:20240704
DTSTAMP:20260422T025404
CREATED:20230929T092210Z
LAST-MODIFIED:20230929T092210Z
UID:12880-1719964800-1720051199@sprong-college.nl
SUMMARY:Afscheid huidige klas en mentor
DESCRIPTION:
URL:https://sprong-college.nl/activiteit/afscheid-huidige-klas-en-mentor/
END:VEVENT
BEGIN:VEVENT
DTSTART;VALUE=DATE:20240703
DTEND;VALUE=DATE:20240704
DTSTAMP:20260422T025404
CREATED:20230929T092251Z
LAST-MODIFIED:20230929T092251Z
UID:12882-1719964800-1720051199@sprong-college.nl
SUMMARY:Uitreiking rapport 3 schakelklas
DESCRIPTION:
URL:https://sprong-college.nl/activiteit/uitreiking-rapport-3-schakelklas/
END:VEVENT
BEGIN:VEVENT
DTSTART;VALUE=DATE:20240704
DTEND;VALUE=DATE:20240706
DTSTAMP:20260422T025404
CREATED:20230922T100007Z
LAST-MODIFIED:20230922T100007Z
UID:12860-1720051200-1720223999@sprong-college.nl
SUMMARY:Leerlingen dienen beschikbaar te zijn voor schoolzaken
DESCRIPTION:
URL:https://sprong-college.nl/activiteit/leerlingen-dienen-beschikbaar-te-zijn-voor-schoolzaken-10/
END:VEVENT
BEGIN:VEVENT
DTSTART;VALUE=DATE:20240708
DTEND;VALUE=DATE:20240713
DTSTAMP:20260422T025404
CREATED:20230929T092345Z
LAST-MODIFIED:20230929T092345Z
UID:12884-1720396800-1720828799@sprong-college.nl
SUMMARY:Zomervakantie
DESCRIPTION:
URL:https://sprong-college.nl/activiteit/zomervakantie-10/
END:VEVENT
BEGIN:VEVENT
DTSTART;VALUE=DATE:20240715
DTEND;VALUE=DATE:20240720
DTSTAMP:20260422T025404
CREATED:20230929T092428Z
LAST-MODIFIED:20230929T092429Z
UID:12886-1721001600-1721433599@sprong-college.nl
SUMMARY:Zomervakantie
DESCRIPTION:
URL:https://sprong-college.nl/activiteit/zomervakantie-11/
END:VEVENT
BEGIN:VEVENT
DTSTART;VALUE=DATE:20240722
DTEND;VALUE=DATE:20240727
DTSTAMP:20260422T025404
CREATED:20230929T094455Z
LAST-MODIFIED:20230929T094455Z
UID:12888-1721606400-1722038399@sprong-college.nl
SUMMARY:Zomervakantie
DESCRIPTION:
URL:https://sprong-college.nl/activiteit/zomervakantie-12/
END:VEVENT
BEGIN:VEVENT
DTSTART;VALUE=DATE:20240729
DTEND;VALUE=DATE:20240803
DTSTAMP:20260422T025404
CREATED:20230929T094530Z
LAST-MODIFIED:20230929T094530Z
UID:12890-1722211200-1722643199@sprong-college.nl
SUMMARY:Zomervakantie
DESCRIPTION:
URL:https://sprong-college.nl/activiteit/zomervakantie-13/
END:VEVENT
END:VCALENDAR