BEGIN:VCALENDAR
VERSION:2.0
PRODID:-//Sprongcollege - ECPv6.15.13//NONSGML v1.0//EN
CALSCALE:GREGORIAN
METHOD:PUBLISH
X-WR-CALNAME:Sprongcollege
X-ORIGINAL-URL:https://sprong-college.nl
X-WR-CALDESC:Evenementen voor Sprongcollege
REFRESH-INTERVAL;VALUE=DURATION:PT1H
X-Robots-Tag:noindex
X-PUBLISHED-TTL:PT1H
BEGIN:VTIMEZONE
TZID:Europe/Amsterdam
BEGIN:DAYLIGHT
TZOFFSETFROM:+0100
TZOFFSETTO:+0200
TZNAME:CEST
DTSTART:20230326T010000
END:DAYLIGHT
BEGIN:STANDARD
TZOFFSETFROM:+0200
TZOFFSETTO:+0100
TZNAME:CET
DTSTART:20231029T010000
END:STANDARD
BEGIN:DAYLIGHT
TZOFFSETFROM:+0100
TZOFFSETTO:+0200
TZNAME:CEST
DTSTART:20240331T010000
END:DAYLIGHT
BEGIN:STANDARD
TZOFFSETFROM:+0200
TZOFFSETTO:+0100
TZNAME:CET
DTSTART:20241027T010000
END:STANDARD
BEGIN:DAYLIGHT
TZOFFSETFROM:+0100
TZOFFSETTO:+0200
TZNAME:CEST
DTSTART:20250330T010000
END:DAYLIGHT
BEGIN:STANDARD
TZOFFSETFROM:+0200
TZOFFSETTO:+0100
TZNAME:CET
DTSTART:20251026T010000
END:STANDARD
END:VTIMEZONE
BEGIN:VEVENT
DTSTART;VALUE=DATE:20240729
DTEND;VALUE=DATE:20240803
DTSTAMP:20260422T010834
CREATED:20230929T094530Z
LAST-MODIFIED:20230929T094530Z
UID:12890-1722211200-1722643199@sprong-college.nl
SUMMARY:Zomervakantie
DESCRIPTION:
URL:https://sprong-college.nl/activiteit/zomervakantie-13/
END:VEVENT
BEGIN:VEVENT
DTSTART;VALUE=DATE:20240805
DTEND;VALUE=DATE:20240810
DTSTAMP:20260422T010834
CREATED:20240606T132926Z
LAST-MODIFIED:20240606T132926Z
UID:13079-1722816000-1723247999@sprong-college.nl
SUMMARY:Zomervakantie
DESCRIPTION:
URL:https://sprong-college.nl/activiteit/zomervakantie-14/
END:VEVENT
BEGIN:VEVENT
DTSTART;VALUE=DATE:20240812
DTEND;VALUE=DATE:20240817
DTSTAMP:20260422T010834
CREATED:20240606T132957Z
LAST-MODIFIED:20240606T132957Z
UID:13081-1723420800-1723852799@sprong-college.nl
SUMMARY:Zomervakantie
DESCRIPTION:
URL:https://sprong-college.nl/activiteit/zomervakantie-15/
END:VEVENT
BEGIN:VEVENT
DTSTART;VALUE=DATE:20240819
DTEND;VALUE=DATE:20240820
DTSTAMP:20260422T010834
CREATED:20240606T133049Z
LAST-MODIFIED:20240606T133049Z
UID:13083-1724025600-1724111999@sprong-college.nl
SUMMARY:Leerlingen vrij\, docenten werken
DESCRIPTION:
URL:https://sprong-college.nl/activiteit/leerlingen-vrij-docenten-werken-2/
END:VEVENT
BEGIN:VEVENT
DTSTART;VALUE=DATE:20240819
DTEND;VALUE=DATE:20240820
DTSTAMP:20260422T010834
CREATED:20240606T133124Z
LAST-MODIFIED:20240606T133124Z
UID:13085-1724025600-1724111999@sprong-college.nl
SUMMARY:Start periode/trimester 1 schakelklas
DESCRIPTION:
URL:https://sprong-college.nl/activiteit/start-periode-trimester-1-schakelklas/
END:VEVENT
BEGIN:VEVENT
DTSTART;VALUE=DATE:20240820
DTEND;VALUE=DATE:20240824
DTSTAMP:20260422T010834
CREATED:20240606T133207Z
LAST-MODIFIED:20240606T133207Z
UID:13087-1724112000-1724457599@sprong-college.nl
SUMMARY:Introductie
DESCRIPTION:
URL:https://sprong-college.nl/activiteit/introductie-2/
END:VEVENT
BEGIN:VEVENT
DTSTART;VALUE=DATE:20240826
DTEND;VALUE=DATE:20240827
DTSTAMP:20260422T010834
CREATED:20240606T133317Z
LAST-MODIFIED:20240606T133453Z
UID:13089-1724630400-1724716799@sprong-college.nl
SUMMARY:Start stage bovenbouw leerjaar 4\, 5 en 6
DESCRIPTION:
URL:https://sprong-college.nl/activiteit/start-stage-bovenbouw-leerjaar-4-5-en-6/
END:VEVENT
END:VCALENDAR