BEGIN:VCALENDAR
VERSION:2.0
PRODID:-//Sprongcollege - ECPv6.15.13//NONSGML v1.0//EN
CALSCALE:GREGORIAN
METHOD:PUBLISH
X-WR-CALNAME:Sprongcollege
X-ORIGINAL-URL:https://sprong-college.nl
X-WR-CALDESC:Evenementen voor Sprongcollege
REFRESH-INTERVAL;VALUE=DURATION:PT1H
X-Robots-Tag:noindex
X-PUBLISHED-TTL:PT1H
BEGIN:VTIMEZONE
TZID:Europe/Amsterdam
BEGIN:DAYLIGHT
TZOFFSETFROM:+0100
TZOFFSETTO:+0200
TZNAME:CEST
DTSTART:20230326T010000
END:DAYLIGHT
BEGIN:STANDARD
TZOFFSETFROM:+0200
TZOFFSETTO:+0100
TZNAME:CET
DTSTART:20231029T010000
END:STANDARD
BEGIN:DAYLIGHT
TZOFFSETFROM:+0100
TZOFFSETTO:+0200
TZNAME:CEST
DTSTART:20240331T010000
END:DAYLIGHT
BEGIN:STANDARD
TZOFFSETFROM:+0200
TZOFFSETTO:+0100
TZNAME:CET
DTSTART:20241027T010000
END:STANDARD
BEGIN:DAYLIGHT
TZOFFSETFROM:+0100
TZOFFSETTO:+0200
TZNAME:CEST
DTSTART:20250330T010000
END:DAYLIGHT
BEGIN:STANDARD
TZOFFSETFROM:+0200
TZOFFSETTO:+0100
TZNAME:CET
DTSTART:20251026T010000
END:STANDARD
END:VTIMEZONE
BEGIN:VEVENT
DTSTART;TZID=Europe/Amsterdam:20240903T193000
DTEND;TZID=Europe/Amsterdam:20240903T210000
DTSTAMP:20260421T232333
CREATED:20240606T133612Z
LAST-MODIFIED:20240606T133613Z
UID:13091-1725391800-1725397200@sprong-college.nl
SUMMARY:Infoavond leerjaar 1-2-iklas onderbouw-schakelklas
DESCRIPTION:
URL:https://sprong-college.nl/activiteit/infoavond-leerjaar-1-2-iklas-onderbouw-schakelklas/
END:VEVENT
BEGIN:VEVENT
DTSTART;TZID=Europe/Amsterdam:20240905T193000
DTEND;TZID=Europe/Amsterdam:20240905T210000
DTSTAMP:20260421T232333
CREATED:20240606T133715Z
LAST-MODIFIED:20240606T133715Z
UID:13093-1725564600-1725570000@sprong-college.nl
SUMMARY:Infoavond leerjaar 3-4-5-6
DESCRIPTION:
URL:https://sprong-college.nl/activiteit/infoavond-leerjaar-3-4-5-6/
END:VEVENT
BEGIN:VEVENT
DTSTART;VALUE=DATE:20240909
DTEND;VALUE=DATE:20240910
DTSTAMP:20260421T232333
CREATED:20240606T133849Z
LAST-MODIFIED:20240614T084547Z
UID:13095-1725840000-1725926399@sprong-college.nl
SUMMARY:Startgesprekken
DESCRIPTION:
URL:https://sprong-college.nl/activiteit/startgesprekken/
END:VEVENT
BEGIN:VEVENT
DTSTART;TZID=Europe/Amsterdam:20240917T190000
DTEND;TZID=Europe/Amsterdam:20240917T210000
DTSTAMP:20260421T232333
CREATED:20240606T134455Z
LAST-MODIFIED:20240702T094633Z
UID:13102-1726599600-1726606800@sprong-college.nl
SUMMARY:Vergadering MR
DESCRIPTION:
URL:https://sprong-college.nl/activiteit/vergadering-mr-4/
END:VEVENT
BEGIN:VEVENT
DTSTART;TZID=Europe/Amsterdam:20240924T193000
DTEND;TZID=Europe/Amsterdam:20240924T210000
DTSTAMP:20260421T232333
CREATED:20240606T134302Z
LAST-MODIFIED:20240702T094558Z
UID:13100-1727206200-1727211600@sprong-college.nl
SUMMARY:Vergadering ouderraden
DESCRIPTION:
URL:https://sprong-college.nl/activiteit/vergadering-ouderraden-locatie-peellandcollege-3/
END:VEVENT
END:VCALENDAR