BEGIN:VCALENDAR
VERSION:2.0
PRODID:-//Sprongcollege - ECPv6.15.13//NONSGML v1.0//EN
CALSCALE:GREGORIAN
METHOD:PUBLISH
X-WR-CALNAME:Sprongcollege
X-ORIGINAL-URL:https://sprong-college.nl
X-WR-CALDESC:Evenementen voor Sprongcollege
REFRESH-INTERVAL;VALUE=DURATION:PT1H
X-Robots-Tag:noindex
X-PUBLISHED-TTL:PT1H
BEGIN:VTIMEZONE
TZID:Europe/Amsterdam
BEGIN:DAYLIGHT
TZOFFSETFROM:+0100
TZOFFSETTO:+0200
TZNAME:CEST
DTSTART:20230326T010000
END:DAYLIGHT
BEGIN:STANDARD
TZOFFSETFROM:+0200
TZOFFSETTO:+0100
TZNAME:CET
DTSTART:20231029T010000
END:STANDARD
BEGIN:DAYLIGHT
TZOFFSETFROM:+0100
TZOFFSETTO:+0200
TZNAME:CEST
DTSTART:20240331T010000
END:DAYLIGHT
BEGIN:STANDARD
TZOFFSETFROM:+0200
TZOFFSETTO:+0100
TZNAME:CET
DTSTART:20241027T010000
END:STANDARD
BEGIN:DAYLIGHT
TZOFFSETFROM:+0100
TZOFFSETTO:+0200
TZNAME:CEST
DTSTART:20250330T010000
END:DAYLIGHT
BEGIN:STANDARD
TZOFFSETFROM:+0200
TZOFFSETTO:+0100
TZNAME:CET
DTSTART:20251026T010000
END:STANDARD
END:VTIMEZONE
BEGIN:VEVENT
DTSTART;VALUE=DATE:20241001
DTEND;VALUE=DATE:20241002
DTSTAMP:20260421T214601
CREATED:20240606T134919Z
LAST-MODIFIED:20240606T134919Z
UID:13104-1727740800-1727827199@sprong-college.nl
SUMMARY:Vanaf 12.05 uur leerlingen lesvrij (geldt niet voor leerlingen op stage)
DESCRIPTION:
URL:https://sprong-college.nl/activiteit/vanaf-12-05-uur-leerlingen-lesvrij-geldt-niet-voor-leerlingen-op-stage/
END:VEVENT
BEGIN:VEVENT
DTSTART;TZID=Europe/Amsterdam:20241001T190000
DTEND;TZID=Europe/Amsterdam:20241001T193000
DTSTAMP:20260421T214601
CREATED:20240821T070117Z
LAST-MODIFIED:20240821T070738Z
UID:13217-1727809200-1727811000@sprong-college.nl
SUMMARY:Thema-avond voor ouders "puberbrein onder invloed" in Cultuurcentrum Deurne
DESCRIPTION:
URL:https://sprong-college.nl/activiteit/inloop-thema-avond-voor-ouders-puberbrein-onder-invloed-in-cultuurcentrum-deurne/
END:VEVENT
BEGIN:VEVENT
DTSTART;TZID=Europe/Amsterdam:20241001T193000
DTEND;TZID=Europe/Amsterdam:20241001T220000
DTSTAMP:20260421T214601
CREATED:20240821T070219Z
LAST-MODIFIED:20240821T070310Z
UID:13219-1727811000-1727820000@sprong-college.nl
SUMMARY:Start Thema-avond voor ouders "puberbrein onder invloed" in Cultuurcentrum Deurne
DESCRIPTION:
URL:https://sprong-college.nl/activiteit/thema-avond-voor-ouders-puberbrein-onder-invloed-in-cultuurcentrum-deurne/
END:VEVENT
BEGIN:VEVENT
DTSTART;VALUE=DATE:20241021
DTEND;VALUE=DATE:20241026
DTSTAMP:20260421T214601
CREATED:20240606T135041Z
LAST-MODIFIED:20240606T135041Z
UID:13106-1729468800-1729900799@sprong-college.nl
SUMMARY:Herfstvakantie
DESCRIPTION:
URL:https://sprong-college.nl/activiteit/herfstvakantie-5/
END:VEVENT
BEGIN:VEVENT
DTSTART;TZID=Europe/Amsterdam:20241028T093000
DTEND;TZID=Europe/Amsterdam:20241028T103000
DTSTAMP:20260421T214601
CREATED:20240827T093039Z
LAST-MODIFIED:20240827T093040Z
UID:13231-1730107800-1730111400@sprong-college.nl
SUMMARY:Na-fotografie (gemiste leerlingen)
DESCRIPTION:
URL:https://sprong-college.nl/activiteit/na-fotografie-gemiste-leerlingen/
END:VEVENT
BEGIN:VEVENT
DTSTART;TZID=Europe/Amsterdam:20241029T193000
DTEND;TZID=Europe/Amsterdam:20241029T210000
DTSTAMP:20260421T214601
CREATED:20240606T135421Z
LAST-MODIFIED:20240606T135421Z
UID:13108-1730230200-1730235600@sprong-college.nl
SUMMARY:Infoavond leerjaar 3 (stage-Senzer-Mee)
DESCRIPTION:
URL:https://sprong-college.nl/activiteit/infoavond-leerjaar-3-stage-senzer-mee/
END:VEVENT
END:VCALENDAR