BEGIN:VCALENDAR
VERSION:2.0
PRODID:-//Sprongcollege - ECPv6.15.13//NONSGML v1.0//EN
CALSCALE:GREGORIAN
METHOD:PUBLISH
X-ORIGINAL-URL:https://sprong-college.nl
X-WR-CALDESC:Evenementen voor Sprongcollege
REFRESH-INTERVAL;VALUE=DURATION:PT1H
X-Robots-Tag:noindex
X-PUBLISHED-TTL:PT1H
BEGIN:VTIMEZONE
TZID:Europe/Amsterdam
BEGIN:DAYLIGHT
TZOFFSETFROM:+0100
TZOFFSETTO:+0200
TZNAME:CEST
DTSTART:20240331T010000
END:DAYLIGHT
BEGIN:STANDARD
TZOFFSETFROM:+0200
TZOFFSETTO:+0100
TZNAME:CET
DTSTART:20241027T010000
END:STANDARD
BEGIN:DAYLIGHT
TZOFFSETFROM:+0100
TZOFFSETTO:+0200
TZNAME:CEST
DTSTART:20250330T010000
END:DAYLIGHT
BEGIN:STANDARD
TZOFFSETFROM:+0200
TZOFFSETTO:+0100
TZNAME:CET
DTSTART:20251026T010000
END:STANDARD
BEGIN:DAYLIGHT
TZOFFSETFROM:+0100
TZOFFSETTO:+0200
TZNAME:CEST
DTSTART:20260329T010000
END:DAYLIGHT
BEGIN:STANDARD
TZOFFSETFROM:+0200
TZOFFSETTO:+0100
TZNAME:CET
DTSTART:20261025T010000
END:STANDARD
END:VTIMEZONE
BEGIN:VEVENT
DTSTART;VALUE=DATE:20250203
DTEND;VALUE=DATE:20250205
DTSTAMP:20260421T151756
CREATED:20240906T090329Z
LAST-MODIFIED:20240906T090357Z
UID:13266-1738540800-1738713599@sprong-college.nl
SUMMARY:Extra vrije dag
DESCRIPTION:
URL:https://sprong-college.nl/activiteit/extra-vrije-dag-3/
END:VEVENT
BEGIN:VEVENT
DTSTART;TZID=Europe/Amsterdam:20250210T170000
DTEND;TZID=Europe/Amsterdam:20250210T213000
DTSTAMP:20260421T151756
CREATED:20240906T090604Z
LAST-MODIFIED:20240906T090605Z
UID:13269-1739206800-1739223000@sprong-college.nl
SUMMARY:Oudergesprekken
DESCRIPTION:
URL:https://sprong-college.nl/activiteit/oudergesprekken/
END:VEVENT
BEGIN:VEVENT
DTSTART;VALUE=DATE:20250211
DTEND;VALUE=DATE:20250212
DTSTAMP:20260421T151756
CREATED:20240906T090654Z
LAST-MODIFIED:20240906T090655Z
UID:13271-1739232000-1739318399@sprong-college.nl
SUMMARY:Tijd voor talent blok 2
DESCRIPTION:
URL:https://sprong-college.nl/activiteit/tijd-voor-talent-blok-2-2/
END:VEVENT
BEGIN:VEVENT
DTSTART;TZID=Europe/Amsterdam:20250211T170000
DTEND;TZID=Europe/Amsterdam:20250211T213000
DTSTAMP:20260421T151756
CREATED:20240906T092838Z
LAST-MODIFIED:20240906T092919Z
UID:13287-1739293200-1739309400@sprong-college.nl
SUMMARY:Oudergesprekken
DESCRIPTION:
URL:https://sprong-college.nl/activiteit/oudergesprekken-2/
END:VEVENT
BEGIN:VEVENT
DTSTART;VALUE=DATE:20250218
DTEND;VALUE=DATE:20250219
DTSTAMP:20260421T151756
CREATED:20240906T091818Z
LAST-MODIFIED:20240906T091819Z
UID:13275-1739836800-1739923199@sprong-college.nl
SUMMARY:Tijd voor talent blok 2
DESCRIPTION:
URL:https://sprong-college.nl/activiteit/tijd-voor-talent-blok-2-3/
END:VEVENT
BEGIN:VEVENT
DTSTART;VALUE=DATE:20250224
DTEND;VALUE=DATE:20250228
DTSTAMP:20260421T151756
CREATED:20240906T091944Z
LAST-MODIFIED:20240906T091945Z
UID:13277-1740355200-1740700799@sprong-college.nl
SUMMARY:Snuffelstage 3 leerjaar 3
DESCRIPTION:
URL:https://sprong-college.nl/activiteit/snuffelstage-3-leerjaar-3-2/
END:VEVENT
BEGIN:VEVENT
DTSTART;VALUE=DATE:20250225
DTEND;VALUE=DATE:20250226
DTSTAMP:20260421T151756
CREATED:20240906T092053Z
LAST-MODIFIED:20240906T092054Z
UID:13279-1740441600-1740527999@sprong-college.nl
SUMMARY:Tijd voor talent blok 2
DESCRIPTION:
URL:https://sprong-college.nl/activiteit/tijd-voor-talent-blok-2-4/
END:VEVENT
END:VCALENDAR