BEGIN:VCALENDAR
VERSION:2.0
PRODID:-//Sprongcollege - ECPv6.15.13//NONSGML v1.0//EN
CALSCALE:GREGORIAN
METHOD:PUBLISH
X-ORIGINAL-URL:https://sprong-college.nl
X-WR-CALDESC:Evenementen voor Sprongcollege
REFRESH-INTERVAL;VALUE=DURATION:PT1H
X-Robots-Tag:noindex
X-PUBLISHED-TTL:PT1H
BEGIN:VTIMEZONE
TZID:Europe/Amsterdam
BEGIN:DAYLIGHT
TZOFFSETFROM:+0100
TZOFFSETTO:+0200
TZNAME:CEST
DTSTART:20260329T010000
END:DAYLIGHT
BEGIN:STANDARD
TZOFFSETFROM:+0200
TZOFFSETTO:+0100
TZNAME:CET
DTSTART:20261025T010000
END:STANDARD
BEGIN:DAYLIGHT
TZOFFSETFROM:+0100
TZOFFSETTO:+0200
TZNAME:CEST
DTSTART:20270328T010000
END:DAYLIGHT
BEGIN:STANDARD
TZOFFSETFROM:+0200
TZOFFSETTO:+0100
TZNAME:CET
DTSTART:20271031T010000
END:STANDARD
BEGIN:DAYLIGHT
TZOFFSETFROM:+0100
TZOFFSETTO:+0200
TZNAME:CEST
DTSTART:20280326T010000
END:DAYLIGHT
BEGIN:STANDARD
TZOFFSETFROM:+0200
TZOFFSETTO:+0100
TZNAME:CET
DTSTART:20281029T010000
END:STANDARD
END:VTIMEZONE
BEGIN:VEVENT
DTSTART;VALUE=DATE:20270802
DTEND;VALUE=DATE:20270807
DTSTAMP:20260421T205048
CREATED:20260313T102206Z
LAST-MODIFIED:20260313T102206Z
UID:13817-1817164800-1817596799@sprong-college.nl
SUMMARY:Zomervakantie
DESCRIPTION:
URL:https://sprong-college.nl/activiteit/zomervakantie-29/
END:VEVENT
BEGIN:VEVENT
DTSTART;VALUE=DATE:20270809
DTEND;VALUE=DATE:20270814
DTSTAMP:20260421T205048
CREATED:20260313T102236Z
LAST-MODIFIED:20260313T102236Z
UID:13819-1817769600-1818201599@sprong-college.nl
SUMMARY:Zomervakantie
DESCRIPTION:
URL:https://sprong-college.nl/activiteit/zomervakantie-30/
END:VEVENT
BEGIN:VEVENT
DTSTART;VALUE=DATE:20270816
DTEND;VALUE=DATE:20270821
DTSTAMP:20260421T205048
CREATED:20260313T102308Z
LAST-MODIFIED:20260313T102308Z
UID:13821-1818374400-1818806399@sprong-college.nl
SUMMARY:Zomervakantie
DESCRIPTION:
URL:https://sprong-college.nl/activiteit/zomervakantie-31/
END:VEVENT
BEGIN:VEVENT
DTSTART;VALUE=DATE:20270823
DTEND;VALUE=DATE:20270828
DTSTAMP:20260421T205048
CREATED:20260313T102333Z
LAST-MODIFIED:20260313T102333Z
UID:13823-1818979200-1819411199@sprong-college.nl
SUMMARY:Zomervakantie
DESCRIPTION:
URL:https://sprong-college.nl/activiteit/zomervakantie-32/
END:VEVENT
BEGIN:VEVENT
DTSTART;VALUE=DATE:20270830
DTEND;VALUE=DATE:20270904
DTSTAMP:20260421T205048
CREATED:20260313T102407Z
LAST-MODIFIED:20260313T102407Z
UID:13825-1819584000-1820015999@sprong-college.nl
SUMMARY:Zomervakantie
DESCRIPTION:
URL:https://sprong-college.nl/activiteit/zomervakantie-33/
END:VEVENT
END:VCALENDAR